BEGIN:VCALENDAR
VERSION:2.0
PRODID:-//evang-klosterneuburg.at - ECPv6.15.18//NONSGML v1.0//EN
CALSCALE:GREGORIAN
METHOD:PUBLISH
X-ORIGINAL-URL:https://evang-klosterneuburg.at
X-WR-CALDESC:Veranstaltungen für evang-klosterneuburg.at
REFRESH-INTERVAL;VALUE=DURATION:PT1H
X-Robots-Tag:noindex
X-PUBLISHED-TTL:PT1H
BEGIN:VTIMEZONE
TZID:Europe/Berlin
BEGIN:DAYLIGHT
TZOFFSETFROM:+0100
TZOFFSETTO:+0200
TZNAME:CEST
DTSTART:20240331T010000
END:DAYLIGHT
BEGIN:STANDARD
TZOFFSETFROM:+0200
TZOFFSETTO:+0100
TZNAME:CET
DTSTART:20241027T010000
END:STANDARD
BEGIN:DAYLIGHT
TZOFFSETFROM:+0100
TZOFFSETTO:+0200
TZNAME:CEST
DTSTART:20250330T010000
END:DAYLIGHT
BEGIN:STANDARD
TZOFFSETFROM:+0200
TZOFFSETTO:+0100
TZNAME:CET
DTSTART:20251026T010000
END:STANDARD
BEGIN:DAYLIGHT
TZOFFSETFROM:+0100
TZOFFSETTO:+0200
TZNAME:CEST
DTSTART:20260329T010000
END:DAYLIGHT
BEGIN:STANDARD
TZOFFSETFROM:+0200
TZOFFSETTO:+0100
TZNAME:CET
DTSTART:20261025T010000
END:STANDARD
END:VTIMEZONE
BEGIN:VEVENT
DTSTART;TZID=Europe/Berlin:20251214T093000
DTEND;TZID=Europe/Berlin:20251214T103000
DTSTAMP:20260422T230550
CREATED:20251116T200716Z
LAST-MODIFIED:20251116T204346Z
UID:10000800-1765704600-1765708200@evang-klosterneuburg.at
SUMMARY:Gottesdienst
DESCRIPTION:mit Herbert Beck\, Abendmahl\, parallel Kindergottesdienst\, Organist Christian Stiegler
URL:https://evang-klosterneuburg.at/event/gottesdienst-106/
LOCATION:Evangelische Pfarrgemeinde Klosterneuburg\, Franz-Rumplerstr. 14\, Klosterneuburg\, Niederösterreich\, 3400\, Austria
CATEGORIES:Gottesdienst,Kinder und Familie
END:VEVENT
BEGIN:VEVENT
DTSTART;TZID=Europe/Berlin:20251214T103000
DTEND;TZID=Europe/Berlin:20251214T110000
DTSTAMP:20260422T230550
CREATED:20250824T180747Z
LAST-MODIFIED:20250824T180747Z
UID:10000747-1765708200-1765710000@evang-klosterneuburg.at
SUMMARY:Orgelmatinee
DESCRIPTION:mit Christian Stiegler im Anschluss an den Gottesdienst
URL:https://evang-klosterneuburg.at/event/orgelmatinee-6/
CATEGORIES:Konzerte und Vorträge
END:VEVENT
BEGIN:VEVENT
DTSTART;TZID=Europe/Berlin:20251214T180000
DTEND;TZID=Europe/Berlin:20251214T200000
DTSTAMP:20260422T230550
CREATED:20250824T192950Z
LAST-MODIFIED:20251118T193809Z
UID:10000783-1765735200-1765742400@evang-klosterneuburg.at
SUMMARY:Weihnachtskantate
DESCRIPTION:mit Stadtchor und Philharmonie Klosterneuburg
URL:https://evang-klosterneuburg.at/event/konzert-philharmonie-klosterneuburg-roland-herret-2/
LOCATION:Evangelische Pfarrgemeinde Klosterneuburg\, Franz-Rumplerstr. 14\, Klosterneuburg\, Niederösterreich\, 3400\, Austria
CATEGORIES:Konzerte und Vorträge
END:VEVENT
END:VCALENDAR