BEGIN:VCALENDAR
VERSION:2.0
PRODID:-//evang-klosterneuburg.at - ECPv6.15.18//NONSGML v1.0//EN
CALSCALE:GREGORIAN
METHOD:PUBLISH
X-WR-CALNAME:evang-klosterneuburg.at
X-ORIGINAL-URL:https://evang-klosterneuburg.at
X-WR-CALDESC:Veranstaltungen für evang-klosterneuburg.at
REFRESH-INTERVAL;VALUE=DURATION:PT1H
X-Robots-Tag:noindex
X-PUBLISHED-TTL:PT1H
BEGIN:VTIMEZONE
TZID:Europe/Berlin
BEGIN:DAYLIGHT
TZOFFSETFROM:+0100
TZOFFSETTO:+0200
TZNAME:CEST
DTSTART:20240331T010000
END:DAYLIGHT
BEGIN:STANDARD
TZOFFSETFROM:+0200
TZOFFSETTO:+0100
TZNAME:CET
DTSTART:20241027T010000
END:STANDARD
BEGIN:DAYLIGHT
TZOFFSETFROM:+0100
TZOFFSETTO:+0200
TZNAME:CEST
DTSTART:20250330T010000
END:DAYLIGHT
BEGIN:STANDARD
TZOFFSETFROM:+0200
TZOFFSETTO:+0100
TZNAME:CET
DTSTART:20251026T010000
END:STANDARD
BEGIN:DAYLIGHT
TZOFFSETFROM:+0100
TZOFFSETTO:+0200
TZNAME:CEST
DTSTART:20260329T010000
END:DAYLIGHT
BEGIN:STANDARD
TZOFFSETFROM:+0200
TZOFFSETTO:+0100
TZNAME:CET
DTSTART:20261025T010000
END:STANDARD
END:VTIMEZONE
BEGIN:VEVENT
DTSTART;TZID=Europe/Berlin:20251217T090000
DTEND;TZID=Europe/Berlin:20251217T110000
DTSTAMP:20260422T230155
CREATED:20250824T183927Z
LAST-MODIFIED:20251126T095626Z
UID:10000761-1765962000-1765969200@evang-klosterneuburg.at
SUMMARY:Bibelfrühstück
DESCRIPTION:Lukas 3\,1-18 \n„Bereitet dem Herrn den Weg!“
URL:https://evang-klosterneuburg.at/event/bibelfruehstueck-22/
LOCATION:Evangelische Pfarrgemeinde Klosterneuburg\, Franz-Rumplerstr. 14\, Klosterneuburg\, Niederösterreich\, 3400\, Austria
CATEGORIES:Gesprächs- und Bibelkreis
END:VEVENT
BEGIN:VEVENT
DTSTART;TZID=Europe/Berlin:20251217T150000
DTEND;TZID=Europe/Berlin:20251217T170000
DTSTAMP:20260422T230155
CREATED:20250825T133331Z
LAST-MODIFIED:20251126T095841Z
UID:10000787-1765983600-1765990800@evang-klosterneuburg.at
SUMMARY:Café der Generationen &  Zwergerl-Treff
DESCRIPTION:Alle Generationen können das Miteinander in Kaffeehaus-Atmosphäre genießen. Kinder können spielen\, während Eltern\, Großeltern und andere Begleitpersonen plaudern und Kaffee und Kuchen genießen. Willkommen sind alle! Spenden werden erbeten. \nDieses Mal ist auch der Zwergerl-Treff bei uns dabei!
URL:https://evang-klosterneuburg.at/event/cafe-der-generationen-25/
LOCATION:Evangelische Pfarrgemeinde Klosterneuburg\, Franz-Rumplerstr. 14\, Klosterneuburg\, Niederösterreich\, 3400\, Austria
CATEGORIES:Kinder und Familie,Senioren
END:VEVENT
BEGIN:VEVENT
DTSTART;TZID=Europe/Berlin:20251217T160000
DTEND;TZID=Europe/Berlin:20251217T173000
DTSTAMP:20260422T230155
CREATED:20250824T182552Z
LAST-MODIFIED:20251126T095540Z
UID:10000753-1765987200-1765992600@evang-klosterneuburg.at
SUMMARY:Tauferinnerungskurs
DESCRIPTION:
URL:https://evang-klosterneuburg.at/event/tauferinnerungskurs-22/
LOCATION:Evangelische Pfarrgemeinde Klosterneuburg\, Franz-Rumplerstr. 14\, Klosterneuburg\, Niederösterreich\, 3400\, Austria
CATEGORIES:Kinder und Familie
END:VEVENT
BEGIN:VEVENT
DTSTART;TZID=Europe/Berlin:20251217T163000
DTEND;TZID=Europe/Berlin:20251217T173000
DTSTAMP:20260422T230155
CREATED:20251126T095711Z
LAST-MODIFIED:20251126T095711Z
UID:10000856-1765989000-1765992600@evang-klosterneuburg.at
SUMMARY:AGITE-Besuchsdienst-Treffen
DESCRIPTION:
URL:https://evang-klosterneuburg.at/event/agite-besuchsdienst-treffen/
END:VEVENT
BEGIN:VEVENT
DTSTART;TZID=Europe/Berlin:20251217T180000
DTEND;TZID=Europe/Berlin:20251217T193000
DTSTAMP:20260422T230155
CREATED:20250824T191045Z
LAST-MODIFIED:20250824T191045Z
UID:10000781-1765994400-1765999800@evang-klosterneuburg.at
SUMMARY:Chor-Probe "EvanGospel"
DESCRIPTION:
URL:https://evang-klosterneuburg.at/event/chor-probe-evangospel-78/
LOCATION:Evangelische Pfarrgemeinde Klosterneuburg\, Franz-Rumplerstr. 14\, Klosterneuburg\, Niederösterreich\, 3400\, Austria
CATEGORIES:Chor
END:VEVENT
END:VCALENDAR