BEGIN:VCALENDAR
VERSION:2.0
PRODID:-//evang-klosterneuburg.at - ECPv6.15.18//NONSGML v1.0//EN
CALSCALE:GREGORIAN
METHOD:PUBLISH
X-WR-CALNAME:evang-klosterneuburg.at
X-ORIGINAL-URL:https://evang-klosterneuburg.at
X-WR-CALDESC:Veranstaltungen für evang-klosterneuburg.at
REFRESH-INTERVAL;VALUE=DURATION:PT1H
X-Robots-Tag:noindex
X-PUBLISHED-TTL:PT1H
BEGIN:VTIMEZONE
TZID:Europe/Berlin
BEGIN:DAYLIGHT
TZOFFSETFROM:+0100
TZOFFSETTO:+0200
TZNAME:CEST
DTSTART:20240331T010000
END:DAYLIGHT
BEGIN:STANDARD
TZOFFSETFROM:+0200
TZOFFSETTO:+0100
TZNAME:CET
DTSTART:20241027T010000
END:STANDARD
BEGIN:DAYLIGHT
TZOFFSETFROM:+0100
TZOFFSETTO:+0200
TZNAME:CEST
DTSTART:20250330T010000
END:DAYLIGHT
BEGIN:STANDARD
TZOFFSETFROM:+0200
TZOFFSETTO:+0100
TZNAME:CET
DTSTART:20251026T010000
END:STANDARD
BEGIN:DAYLIGHT
TZOFFSETFROM:+0100
TZOFFSETTO:+0200
TZNAME:CEST
DTSTART:20260329T010000
END:DAYLIGHT
BEGIN:STANDARD
TZOFFSETFROM:+0200
TZOFFSETTO:+0100
TZNAME:CET
DTSTART:20261025T010000
END:STANDARD
END:VTIMEZONE
BEGIN:VEVENT
DTSTART;TZID=Europe/Berlin:20251224T140000
DTEND;TZID=Europe/Berlin:20251224T160000
DTSTAMP:20260422T230310
CREATED:20251127T122021Z
LAST-MODIFIED:20251127T122021Z
UID:10000858-1766584800-1766592000@evang-klosterneuburg.at
SUMMARY:Offene Türen zu Weihachten
DESCRIPTION:Kekse/Kaffee/Punsch und Singen – im Anschluss Familiengottesdienst
URL:https://evang-klosterneuburg.at/event/offene-tueren-zu-weihachten/
CATEGORIES:Kinder und Familie,Konfis & Jugend
END:VEVENT
BEGIN:VEVENT
DTSTART;TZID=Europe/Berlin:20251224T150000
DTEND;TZID=Europe/Berlin:20251224T154500
DTSTAMP:20260422T230310
CREATED:20251126T095339Z
LAST-MODIFIED:20251126T095339Z
UID:10000855-1766588400-1766591100@evang-klosterneuburg.at
SUMMARY:Krippenspiel-Probe
DESCRIPTION:
URL:https://evang-klosterneuburg.at/event/krippenspiel-probe/
LOCATION:Evangelische Pfarrgemeinde Klosterneuburg\, Franz-Rumplerstr. 14\, Klosterneuburg\, Niederösterreich\, 3400\, Austria
CATEGORIES:Kinder und Familie,Konfis & Jugend
END:VEVENT
BEGIN:VEVENT
DTSTART;TZID=Europe/Berlin:20251224T160000
DTEND;TZID=Europe/Berlin:20251224T170000
DTSTAMP:20260422T230310
CREATED:20251116T202218Z
LAST-MODIFIED:20251116T202218Z
UID:10000803-1766592000-1766595600@evang-klosterneuburg.at
SUMMARY:Christvesper\, Familiengottesdienst
DESCRIPTION:mit Kerstin Fritz\, Organist Christian Stiegler
URL:https://evang-klosterneuburg.at/event/christvesper-familiengottesdienst/
LOCATION:Evangelische Pfarrgemeinde Klosterneuburg\, Franz-Rumplerstr. 14\, Klosterneuburg\, Niederösterreich\, 3400\, Austria
CATEGORIES:Gottesdienst,Kinder und Familie
END:VEVENT
BEGIN:VEVENT
DTSTART;TZID=Europe/Berlin:20251224T173000
DTEND;TZID=Europe/Berlin:20251224T220000
DTSTAMP:20260422T230310
CREATED:20251127T122305Z
LAST-MODIFIED:20251128T050926Z
UID:10000859-1766597400-1766613600@evang-klosterneuburg.at
SUMMARY:Weihnachtsfeier
DESCRIPTION:Wir feiern und essen gemeinsam\, lesen Geschichten und singen Weihnachtslieder. Niemand soll ungewollt allein bleiben. Anschließend Christmette
URL:https://evang-klosterneuburg.at/event/weihnachtsfeier/
CATEGORIES:Gesprächs- und Bibelkreis,Kinder und Familie,Konfis & Jugend,Ökumene,Senioren
END:VEVENT
BEGIN:VEVENT
DTSTART;TZID=Europe/Berlin:20251224T220000
DTEND;TZID=Europe/Berlin:20251224T230000
DTSTAMP:20260422T230310
CREATED:20251116T202507Z
LAST-MODIFIED:20251116T202507Z
UID:10000804-1766613600-1766617200@evang-klosterneuburg.at
SUMMARY:Christmette
DESCRIPTION:mit Kerstin Fritz\, Organistin Gabriele Höfer
URL:https://evang-klosterneuburg.at/event/christmette-3/
LOCATION:Evangelische Pfarrgemeinde Klosterneuburg\, Franz-Rumplerstr. 14\, Klosterneuburg\, Niederösterreich\, 3400\, Austria
CATEGORIES:Gottesdienst
END:VEVENT
END:VCALENDAR