BEGIN:VCALENDAR
VERSION:2.0
PRODID:-//evang-klosterneuburg.at - ECPv6.15.18//NONSGML v1.0//EN
CALSCALE:GREGORIAN
METHOD:PUBLISH
X-ORIGINAL-URL:https://evang-klosterneuburg.at
X-WR-CALDESC:Veranstaltungen für evang-klosterneuburg.at
REFRESH-INTERVAL;VALUE=DURATION:PT1H
X-Robots-Tag:noindex
X-PUBLISHED-TTL:PT1H
BEGIN:VTIMEZONE
TZID:Europe/Berlin
BEGIN:DAYLIGHT
TZOFFSETFROM:+0100
TZOFFSETTO:+0200
TZNAME:CEST
DTSTART:20250330T010000
END:DAYLIGHT
BEGIN:STANDARD
TZOFFSETFROM:+0200
TZOFFSETTO:+0100
TZNAME:CET
DTSTART:20251026T010000
END:STANDARD
BEGIN:DAYLIGHT
TZOFFSETFROM:+0100
TZOFFSETTO:+0200
TZNAME:CEST
DTSTART:20260329T010000
END:DAYLIGHT
BEGIN:STANDARD
TZOFFSETFROM:+0200
TZOFFSETTO:+0100
TZNAME:CET
DTSTART:20261025T010000
END:STANDARD
BEGIN:DAYLIGHT
TZOFFSETFROM:+0100
TZOFFSETTO:+0200
TZNAME:CEST
DTSTART:20270328T010000
END:DAYLIGHT
BEGIN:STANDARD
TZOFFSETFROM:+0200
TZOFFSETTO:+0100
TZNAME:CET
DTSTART:20271031T010000
END:STANDARD
END:VTIMEZONE
BEGIN:VEVENT
DTSTART;TZID=Europe/Berlin:20260214T093000
DTEND;TZID=Europe/Berlin:20260214T133000
DTSTAMP:20260422T200331
CREATED:20251118T192501Z
LAST-MODIFIED:20260105T103541Z
UID:10000843-1771061400-1771075800@evang-klosterneuburg.at
SUMMARY:Konfi-Kurs
DESCRIPTION:
URL:https://evang-klosterneuburg.at/event/konfi-kurs-22/
LOCATION:Evangelische Pfarrgemeinde Klosterneuburg\, Franz-Rumplerstr. 14\, Klosterneuburg\, Niederösterreich\, 3400\, Austria
CATEGORIES:Konfis & Jugend
END:VEVENT
BEGIN:VEVENT
DTSTART;TZID=Europe/Berlin:20260214T170000
DTEND;TZID=Europe/Berlin:20260214T183000
DTSTAMP:20260422T200331
CREATED:20260213T201221Z
LAST-MODIFIED:20260213T202007Z
UID:10000875-1771088400-1771093800@evang-klosterneuburg.at
SUMMARY:Segensfeier zum Valentinstag
DESCRIPTION:Valentinstag ist mehr als Rosen und Schokolade – es ist ein Tag\, um die Liebe in all ihren Facetten zu feiern!\nDarum laden wir herzlich ein zu einer besonderen ökumenischen Gottesdienstfeier. Wir wollen gemeinsam innehalten\, nachdenken\, danken\, träumen und Gott um seinen Segen bitten für unsere Beziehungen\, für unsere Liebe. Uns erwartet eine stimmungsvolle Feier mit Musik\, Gebet und persönlichem Segen für Paare und Besinnung auf das\, was wirklich zählt. Eine Gelegenheit\, unsere Liebe in Dankbarkeit\, Freude und Hoffnung bewusst zu erleben\, zu feiern und zu stärken. auch bei einem Ausklang mit Brot und Sekt und Wein. Wir freuen uns auf alle\, die ihre Liebe feiern und im Vertrauen auf Gottes Nähe gestärkt weitergehen möchten – ob frisch verliebt\, verlobt\, schon lang verheiratet\, in einer Partnerschaft lebend oder einfach seit vielen Jahren gemeinsam unterwegs. \n… und damit wir als Paar gemeinsam entspannt feiern können\, gibt es während der Segensfeier eine Kinderbetreuung im EG\, Haus Martinstr. 40. \nWann: Samstag\, 14. Februar 2026\, 17 Uhr \nWo: Kirche St. Martin\, Klosterneuburg\, Martinstr. 38 \nMit Kerstin Fritz\, Monika Rapp-Pokorny und Walter Schaupp\, für alle Liebenden.
URL:https://evang-klosterneuburg.at/event/segensfeier-zum-valentinstag/
LOCATION:St. Martin
CATEGORIES:Gottesdienst,Ökumene
ATTACH;FMTTYPE=image/jpeg:https://evang-klosterneuburg.at/wp-content/uploads/2026/02/A5-Segensfeier-zum-Valentinstag-final-1.jpg
END:VEVENT
END:VCALENDAR