BEGIN:VCALENDAR
VERSION:2.0
PRODID:-//evang-klosterneuburg.at - ECPv6.15.18//NONSGML v1.0//EN
CALSCALE:GREGORIAN
METHOD:PUBLISH
X-ORIGINAL-URL:https://evang-klosterneuburg.at
X-WR-CALDESC:Veranstaltungen für evang-klosterneuburg.at
REFRESH-INTERVAL;VALUE=DURATION:PT1H
X-Robots-Tag:noindex
X-PUBLISHED-TTL:PT1H
BEGIN:VTIMEZONE
TZID:Europe/Berlin
BEGIN:DAYLIGHT
TZOFFSETFROM:+0100
TZOFFSETTO:+0200
TZNAME:CEST
DTSTART:20250330T010000
END:DAYLIGHT
BEGIN:STANDARD
TZOFFSETFROM:+0200
TZOFFSETTO:+0100
TZNAME:CET
DTSTART:20251026T010000
END:STANDARD
BEGIN:DAYLIGHT
TZOFFSETFROM:+0100
TZOFFSETTO:+0200
TZNAME:CEST
DTSTART:20260329T010000
END:DAYLIGHT
BEGIN:STANDARD
TZOFFSETFROM:+0200
TZOFFSETTO:+0100
TZNAME:CET
DTSTART:20261025T010000
END:STANDARD
BEGIN:DAYLIGHT
TZOFFSETFROM:+0100
TZOFFSETTO:+0200
TZNAME:CEST
DTSTART:20270328T010000
END:DAYLIGHT
BEGIN:STANDARD
TZOFFSETFROM:+0200
TZOFFSETTO:+0100
TZNAME:CET
DTSTART:20271031T010000
END:STANDARD
END:VTIMEZONE
BEGIN:VEVENT
DTSTART;TZID=Europe/Berlin:20260404T190000
DTEND;TZID=Europe/Berlin:20260405T080000
DTSTAMP:20260422T170518
CREATED:20260321T084146Z
LAST-MODIFIED:20260326T095954Z
UID:10000965-1775329200-1775376000@evang-klosterneuburg.at
SUMMARY:You-Gain-Treff Oster-Kirchenschlaf
DESCRIPTION:Wir werden von Karsamstag auf Ostersonntag in der Gemeinde eine gemeinsame Nacht verbringen. Zeit für Essen\, Spiele\, Deeptalk\, und vieles mehr. Wir starten mit dem Taize-Gottesdienst am Karsamstag um 19:00Uhr \, den Heidi Satorius hält und schauen dann\, was die Nacht bringt. Um 05:30Uhr wird es dann einen Sonnenaufgangsgottesdienst geben. Ganz nach dem Vorbild der Frauen\, die so früh ans Grab gekommen sind\, um zu bemerken\, dass Jesus auferstanden ist. Danach ist noch Zeit für zum Beispiel eine kleine Osterjause? Ideen könnt ihr mir gerne zukommen lassen. Ich würde mich auf jeden Fall freuen\, die Nacht mit euch zu verbringen und hoffe\, dass viele von euch dabei sind.
URL:https://evang-klosterneuburg.at/event/you-gain-treff-oster-kirchenschlaf/
LOCATION:Evangelische Pfarrgemeinde Klosterneuburg\, Franz-Rumplerstr. 14\, Klosterneuburg\, Niederösterreich\, 3400\, Austria
CATEGORIES:Konfis & Jugend
END:VEVENT
BEGIN:VEVENT
DTSTART;TZID=Europe/Berlin:20260405T053000
DTEND;TZID=Europe/Berlin:20260405T063000
DTSTAMP:20260422T170518
CREATED:20260321T083701Z
LAST-MODIFIED:20260326T100106Z
UID:10000964-1775367000-1775370600@evang-klosterneuburg.at
SUMMARY:Gottesdienst zum Ostermorgen
DESCRIPTION:mit Fabian Schirner \n  \nWie die Frauen\, die am Ostermorgen ans Grab gegangen sind\, wollen auch wir uns schon zum Sonnenaufgang auf den Weg machen und Gottesdienst bei Sonnenaufgang feiern. Herzliche Einladung bei diesem besonderen Gottesdienst dabei zu sein.
URL:https://evang-klosterneuburg.at/event/gottesdienst-zum-ostermorgen/
LOCATION:Evangelische Pfarrgemeinde Klosterneuburg\, Franz-Rumplerstr. 14\, Klosterneuburg\, Niederösterreich\, 3400\, Austria
CATEGORIES:Gottesdienst,Konfis & Jugend
END:VEVENT
BEGIN:VEVENT
DTSTART;TZID=Europe/Berlin:20260405T093000
DTEND;TZID=Europe/Berlin:20260405T103000
DTSTAMP:20260422T170518
CREATED:20260214T155914Z
LAST-MODIFIED:20260214T193749Z
UID:10000881-1775381400-1775385000@evang-klosterneuburg.at
SUMMARY:Familiengottesdienst zum Ostersonntag
DESCRIPTION:„Manchmal bin ich mutig“ mit Kerstin Fritz\, anschließend Gemeindekaffee\, Organistin Gabriele Höfer
URL:https://evang-klosterneuburg.at/event/familiengottesdienst-zum-ostersonntag/
LOCATION:Evangelische Pfarrgemeinde Klosterneuburg\, Franz-Rumplerstr. 14\, Klosterneuburg\, Niederösterreich\, 3400\, Austria
CATEGORIES:Gottesdienst,Kinder und Familie
END:VEVENT
END:VCALENDAR