BEGIN:VCALENDAR
VERSION:2.0
PRODID:-//evang-klosterneuburg.at - ECPv6.15.18//NONSGML v1.0//EN
CALSCALE:GREGORIAN
METHOD:PUBLISH
X-WR-CALNAME:evang-klosterneuburg.at
X-ORIGINAL-URL:https://evang-klosterneuburg.at
X-WR-CALDESC:Veranstaltungen für evang-klosterneuburg.at
REFRESH-INTERVAL;VALUE=DURATION:PT1H
X-Robots-Tag:noindex
X-PUBLISHED-TTL:PT1H
BEGIN:VTIMEZONE
TZID:Europe/Berlin
BEGIN:DAYLIGHT
TZOFFSETFROM:+0100
TZOFFSETTO:+0200
TZNAME:CEST
DTSTART:20250330T010000
END:DAYLIGHT
BEGIN:STANDARD
TZOFFSETFROM:+0200
TZOFFSETTO:+0100
TZNAME:CET
DTSTART:20251026T010000
END:STANDARD
BEGIN:DAYLIGHT
TZOFFSETFROM:+0100
TZOFFSETTO:+0200
TZNAME:CEST
DTSTART:20260329T010000
END:DAYLIGHT
BEGIN:STANDARD
TZOFFSETFROM:+0200
TZOFFSETTO:+0100
TZNAME:CET
DTSTART:20261025T010000
END:STANDARD
BEGIN:DAYLIGHT
TZOFFSETFROM:+0100
TZOFFSETTO:+0200
TZNAME:CEST
DTSTART:20270328T010000
END:DAYLIGHT
BEGIN:STANDARD
TZOFFSETFROM:+0200
TZOFFSETTO:+0100
TZNAME:CET
DTSTART:20271031T010000
END:STANDARD
END:VTIMEZONE
BEGIN:VEVENT
DTSTART;TZID=Europe/Berlin:20260413T163000
DTEND;TZID=Europe/Berlin:20260413T190000
DTSTAMP:20260422T152600
CREATED:20260326T120642Z
LAST-MODIFIED:20260326T120642Z
UID:10000967-1776097800-1776106800@evang-klosterneuburg.at
SUMMARY:Kirchenbeitrags-Sprechtag
DESCRIPTION:Hier nehmen wir uns Zeit für Ihre Anliegen und Fragen rund um den Kirchenbeitrag. Bringen Sie bei Wunsch auf Neuberechnung bitte Einkommensnachweise mit (und falls vorhanden auch Belege über Sonderausgaben).
URL:https://evang-klosterneuburg.at/event/kirchenbeitrags-sprechtag/
LOCATION:Evangelische Pfarrgemeinde Klosterneuburg\, Franz-Rumplerstr. 14\, Klosterneuburg\, Niederösterreich\, 3400\, Austria
END:VEVENT
BEGIN:VEVENT
DTSTART;TZID=Europe/Berlin:20260413T190000
DTEND;TZID=Europe/Berlin:20260413T210000
DTSTAMP:20260422T152600
CREATED:20260214T201151Z
LAST-MODIFIED:20260214T201151Z
UID:10000910-1776106800-1776114000@evang-klosterneuburg.at
SUMMARY:Gesprächskreis
DESCRIPTION:Gespräche über Gott und die Welt
URL:https://evang-klosterneuburg.at/event/gespraechskreis-27/
LOCATION:Evangelische Pfarrgemeinde Klosterneuburg\, Franz-Rumplerstr. 14\, Klosterneuburg\, Niederösterreich\, 3400\, Austria
CATEGORIES:Gesprächs- und Bibelkreis
END:VEVENT
END:VCALENDAR