BEGIN:VCALENDAR
VERSION:2.0
PRODID:-//evang-klosterneuburg.at - ECPv6.15.18//NONSGML v1.0//EN
CALSCALE:GREGORIAN
METHOD:PUBLISH
X-WR-CALNAME:evang-klosterneuburg.at
X-ORIGINAL-URL:https://evang-klosterneuburg.at
X-WR-CALDESC:Veranstaltungen für evang-klosterneuburg.at
REFRESH-INTERVAL;VALUE=DURATION:PT1H
X-Robots-Tag:noindex
X-PUBLISHED-TTL:PT1H
BEGIN:VTIMEZONE
TZID:Europe/Berlin
BEGIN:DAYLIGHT
TZOFFSETFROM:+0100
TZOFFSETTO:+0200
TZNAME:CEST
DTSTART:20250330T010000
END:DAYLIGHT
BEGIN:STANDARD
TZOFFSETFROM:+0200
TZOFFSETTO:+0100
TZNAME:CET
DTSTART:20251026T010000
END:STANDARD
BEGIN:DAYLIGHT
TZOFFSETFROM:+0100
TZOFFSETTO:+0200
TZNAME:CEST
DTSTART:20260329T010000
END:DAYLIGHT
BEGIN:STANDARD
TZOFFSETFROM:+0200
TZOFFSETTO:+0100
TZNAME:CET
DTSTART:20261025T010000
END:STANDARD
BEGIN:DAYLIGHT
TZOFFSETFROM:+0100
TZOFFSETTO:+0200
TZNAME:CEST
DTSTART:20270328T010000
END:DAYLIGHT
BEGIN:STANDARD
TZOFFSETFROM:+0200
TZOFFSETTO:+0100
TZNAME:CET
DTSTART:20271031T010000
END:STANDARD
END:VTIMEZONE
BEGIN:VEVENT
DTSTART;TZID=Europe/Berlin:20260418T093000
DTEND;TZID=Europe/Berlin:20260418T110000
DTSTAMP:20260422T152614
CREATED:20260214T200329Z
LAST-MODIFIED:20260214T200329Z
UID:10000903-1776504600-1776510000@evang-klosterneuburg.at
SUMMARY:Elternfrühstück
DESCRIPTION:Wir wollen uns Zeit nehmen zum Ankommen\, Austauschen\, Lachen und vielleicht auch zum ehrlichen Erzählen\, wie es uns gerade so geht. Erfahrungen zu teilen und zu merken: Wir sind mit unseren Themen nicht allein. \nFür alle Kinder im Alter von 8 bis 13 Jahren findet parallel von 9:30 bis 12:30 unsere Jungschar statt!
URL:https://evang-klosterneuburg.at/event/elternfruehstueck-4/
LOCATION:Evangelische Pfarrgemeinde Klosterneuburg\, Franz-Rumplerstr. 14\, Klosterneuburg\, Niederösterreich\, 3400\, Austria
CATEGORIES:Gesprächs- und Bibelkreis,Kinder und Familie
END:VEVENT
BEGIN:VEVENT
DTSTART;TZID=Europe/Berlin:20260418T093000
DTEND;TZID=Europe/Berlin:20260418T123000
DTSTAMP:20260422T152614
CREATED:20260215T184546Z
LAST-MODIFIED:20260215T184546Z
UID:10000915-1776504600-1776515400@evang-klosterneuburg.at
SUMMARY:Jungschar
DESCRIPTION:Ein offenes Treffen für Kinder und Jugendliche von 8 bis 13 Jahren. \nIm Vordergrund stehen Spiel\, Spaß und Freundschaft!
URL:https://evang-klosterneuburg.at/event/jungschar-26/
LOCATION:Evangelische Pfarrgemeinde Klosterneuburg\, Franz-Rumplerstr. 14\, Klosterneuburg\, Niederösterreich\, 3400\, Austria
CATEGORIES:Kinder und Familie
END:VEVENT
END:VCALENDAR