BEGIN:VCALENDAR
VERSION:2.0
PRODID:-//evang-klosterneuburg.at - ECPv6.15.18//NONSGML v1.0//EN
CALSCALE:GREGORIAN
METHOD:PUBLISH
X-WR-CALNAME:evang-klosterneuburg.at
X-ORIGINAL-URL:https://evang-klosterneuburg.at
X-WR-CALDESC:Veranstaltungen für evang-klosterneuburg.at
REFRESH-INTERVAL;VALUE=DURATION:PT1H
X-Robots-Tag:noindex
X-PUBLISHED-TTL:PT1H
BEGIN:VTIMEZONE
TZID:Europe/Berlin
BEGIN:DAYLIGHT
TZOFFSETFROM:+0100
TZOFFSETTO:+0200
TZNAME:CEST
DTSTART:20250330T010000
END:DAYLIGHT
BEGIN:STANDARD
TZOFFSETFROM:+0200
TZOFFSETTO:+0100
TZNAME:CET
DTSTART:20251026T010000
END:STANDARD
BEGIN:DAYLIGHT
TZOFFSETFROM:+0100
TZOFFSETTO:+0200
TZNAME:CEST
DTSTART:20260329T010000
END:DAYLIGHT
BEGIN:STANDARD
TZOFFSETFROM:+0200
TZOFFSETTO:+0100
TZNAME:CET
DTSTART:20261025T010000
END:STANDARD
BEGIN:DAYLIGHT
TZOFFSETFROM:+0100
TZOFFSETTO:+0200
TZNAME:CEST
DTSTART:20270328T010000
END:DAYLIGHT
BEGIN:STANDARD
TZOFFSETFROM:+0200
TZOFFSETTO:+0100
TZNAME:CET
DTSTART:20271031T010000
END:STANDARD
END:VTIMEZONE
BEGIN:VEVENT
DTSTART;TZID=Europe/Berlin:20260422T150000
DTEND;TZID=Europe/Berlin:20260422T170000
DTSTAMP:20260422T122248
CREATED:20260214T200756Z
LAST-MODIFIED:20260214T200756Z
UID:10000907-1776870000-1776877200@evang-klosterneuburg.at
SUMMARY:Café der Generationen
DESCRIPTION:Alle Generationen können das Miteinander in Kaffeehaus-Atmosphäre genießen. Kinder können spielen\, während Eltern\, Großeltern und andere Begleitpersonen plaudern und Kaffee und Kuchen genießen. Willkommen sind alle! Spenden werden erbeten.
URL:https://evang-klosterneuburg.at/event/cafe-der-generationen-29/
LOCATION:Evangelische Pfarrgemeinde Klosterneuburg\, Franz-Rumplerstr. 14\, Klosterneuburg\, Niederösterreich\, 3400\, Austria
CATEGORIES:Kinder und Familie,Senioren
END:VEVENT
BEGIN:VEVENT
DTSTART;TZID=Europe/Berlin:20260422T163000
DTEND;TZID=Europe/Berlin:20260422T173000
DTSTAMP:20260422T122248
CREATED:20260326T123556Z
LAST-MODIFIED:20260326T123556Z
UID:10000969-1776875400-1776879000@evang-klosterneuburg.at
SUMMARY:AGITE-Besuchsdienst-Treffen
DESCRIPTION:Alle\, die mitmachen wollen\, sind herzlich willkommen.
URL:https://evang-klosterneuburg.at/event/agite-besuchsdienst-treffen-2/
LOCATION:Evangelische Pfarrgemeinde Klosterneuburg\, Franz-Rumplerstr. 14\, Klosterneuburg\, Niederösterreich\, 3400\, Austria
END:VEVENT
BEGIN:VEVENT
DTSTART;TZID=Europe/Berlin:20260422T180000
DTEND;TZID=Europe/Berlin:20260422T200000
DTSTAMP:20260422T122248
CREATED:20260326T123632Z
LAST-MODIFIED:20260326T123632Z
UID:10000970-1776880800-1776888000@evang-klosterneuburg.at
SUMMARY:Chor-Probe "EvanGospel"
DESCRIPTION:
URL:https://evang-klosterneuburg.at/event/chor-probe-evangospel-90/
LOCATION:Evangelische Pfarrgemeinde Klosterneuburg\, Franz-Rumplerstr. 14\, Klosterneuburg\, Niederösterreich\, 3400\, Austria
CATEGORIES:Chor
END:VEVENT
BEGIN:VEVENT
DTSTART;TZID=Europe/Berlin:20260423T180000
DTEND;TZID=Europe/Berlin:20260423T210000
DTSTAMP:20260422T122248
CREATED:20260215T185529Z
LAST-MODIFIED:20260215T185529Z
UID:10000925-1776967200-1776978000@evang-klosterneuburg.at
SUMMARY:You-Gain-Treff
DESCRIPTION:Offener Jugendtreff für alle ab 14 und unsere aktuellen Konfis.
URL:https://evang-klosterneuburg.at/event/you-gain-treff-25/
LOCATION:Evangelische Pfarrgemeinde Klosterneuburg\, Franz-Rumplerstr. 14\, Klosterneuburg\, Niederösterreich\, 3400\, Austria
CATEGORIES:Konfis & Jugend
END:VEVENT
BEGIN:VEVENT
DTSTART;TZID=Europe/Berlin:20260423T183000
DTEND;TZID=Europe/Berlin:20260423T200000
DTSTAMP:20260422T122248
CREATED:20260215T193728Z
LAST-MODIFIED:20260215T193728Z
UID:10000945-1776969000-1776974400@evang-klosterneuburg.at
SUMMARY:Offene Schreibwerkstatt
DESCRIPTION:mit Hubertus September \nEingeladen sind alle Menschen zwischen 14 und 114\, die gerne schreiben oder schon länger den Wunsch haben\, eigene Texte zu verfassen. Vorkenntnisse sind keine\nnötig\, lediglich Neugier und Lust aufs Schreiben allgemein.
URL:https://evang-klosterneuburg.at/event/offene-schreibwerkstatt-2/
LOCATION:Evangelische Pfarrgemeinde Klosterneuburg\, Franz-Rumplerstr. 14\, Klosterneuburg\, Niederösterreich\, 3400\, Austria
END:VEVENT
BEGIN:VEVENT
DTSTART;VALUE=DATE:20260425
DTEND;VALUE=DATE:20260426
DTSTAMP:20260422T122248
CREATED:20260215T192041Z
LAST-MODIFIED:20260326T123713Z
UID:10000941-1777075200-1777161599@evang-klosterneuburg.at
SUMMARY:Konfi-Tag
DESCRIPTION:Konfitag in St. Pölten
URL:https://evang-klosterneuburg.at/event/konfi-kurs-26/
LOCATION:Evangelische Pfarrgemeinde Klosterneuburg\, Franz-Rumplerstr. 14\, Klosterneuburg\, Niederösterreich\, 3400\, Austria
CATEGORIES:Konfis & Jugend
END:VEVENT
BEGIN:VEVENT
DTSTART;TZID=Europe/Berlin:20260426T093000
DTEND;TZID=Europe/Berlin:20260426T103000
DTSTAMP:20260422T122248
CREATED:20260214T161424Z
LAST-MODIFIED:20260420T071352Z
UID:10000886-1777195800-1777199400@evang-klosterneuburg.at
SUMMARY:Gottesdienst
DESCRIPTION:mit Kerstin Fritz\,  parallel Kindergottesdienst\, Organist Christian Bauer
URL:https://evang-klosterneuburg.at/event/gottesdienst-120/
LOCATION:Evangelische Pfarrgemeinde Klosterneuburg\, Franz-Rumplerstr. 14\, Klosterneuburg\, Niederösterreich\, 3400\, Austria
CATEGORIES:Gottesdienst,Kinder und Familie
END:VEVENT
BEGIN:VEVENT
DTSTART;TZID=Europe/Berlin:20260429T150000
DTEND;TZID=Europe/Berlin:20260429T163000
DTSTAMP:20260422T122248
CREATED:20260214T195830Z
LAST-MODIFIED:20260214T195830Z
UID:10000899-1777474800-1777480200@evang-klosterneuburg.at
SUMMARY:Zwergerl-Treff
DESCRIPTION:für alle von 0 bis 7 Jahren mit ihren Begleitpersonen.
URL:https://evang-klosterneuburg.at/event/zwergerl-treff-35/
LOCATION:Evangelische Pfarrgemeinde Klosterneuburg\, Franz-Rumplerstr. 14\, Klosterneuburg\, Niederösterreich\, 3400\, Austria
CATEGORIES:Kinder und Familie
END:VEVENT
BEGIN:VEVENT
DTSTART;TZID=Europe/Berlin:20260429T180000
DTEND;TZID=Europe/Berlin:20260429T200000
DTSTAMP:20260422T122248
CREATED:20260326T123808Z
LAST-MODIFIED:20260326T123808Z
UID:10000971-1777485600-1777492800@evang-klosterneuburg.at
SUMMARY:Chor-Probe "EvanGospel"
DESCRIPTION:
URL:https://evang-klosterneuburg.at/event/chor-probe-evangospel-91/
LOCATION:Evangelische Pfarrgemeinde Klosterneuburg\, Franz-Rumplerstr. 14\, Klosterneuburg\, Niederösterreich\, 3400\, Austria
CATEGORIES:Chor
END:VEVENT
BEGIN:VEVENT
DTSTART;TZID=Europe/Berlin:20260430T150000
DTEND;TZID=Europe/Berlin:20260430T170000
DTSTAMP:20260422T122248
CREATED:20260215T190706Z
LAST-MODIFIED:20260402T082804Z
UID:10000935-1777561200-1777568400@evang-klosterneuburg.at
SUMMARY:Senior*innenkreis
DESCRIPTION:Gemeinsame Geburtstagsfeier mit Jause und Vortrag von Dieter Stroh: Große Polenrundreise
URL:https://evang-klosterneuburg.at/event/seniorinnenkreis-11/
LOCATION:Evangelische Pfarrgemeinde Klosterneuburg\, Franz-Rumplerstr. 14\, Klosterneuburg\, Niederösterreich\, 3400\, Austria
CATEGORIES:Senioren
END:VEVENT
BEGIN:VEVENT
DTSTART;TZID=Europe/Berlin:20260503T093000
DTEND;TZID=Europe/Berlin:20260503T103000
DTSTAMP:20260422T122248
CREATED:20260214T161548Z
LAST-MODIFIED:20260214T194209Z
UID:10000887-1777800600-1777804200@evang-klosterneuburg.at
SUMMARY:Gottesdienst
DESCRIPTION:mit Heidi Sartorius\, Organistin Gabriele Höfer
URL:https://evang-klosterneuburg.at/event/gottesdienst-121/
LOCATION:Evangelische Pfarrgemeinde Klosterneuburg\, Franz-Rumplerstr. 14\, Klosterneuburg\, Niederösterreich\, 3400\, Austria
CATEGORIES:Gottesdienst
END:VEVENT
BEGIN:VEVENT
DTSTART;TZID=Europe/Berlin:20260503T104500
DTEND;TZID=Europe/Berlin:20260503T114500
DTSTAMP:20260422T122248
CREATED:20260402T074510Z
LAST-MODIFIED:20260402T083332Z
UID:10000972-1777805100-1777808700@evang-klosterneuburg.at
SUMMARY:Interreligiöser Dialog
DESCRIPTION:Gemeinsame Besprechung und Planung. Alle Interessierten sind herzlich willkommen!
URL:https://evang-klosterneuburg.at/event/interreligioeser-dialog-7/
LOCATION:Evangelische Pfarrgemeinde Klosterneuburg\, Franz-Rumplerstr. 14\, Klosterneuburg\, Niederösterreich\, 3400\, Austria
CATEGORIES:Interreligiöser Dialog
END:VEVENT
BEGIN:VEVENT
DTSTART;TZID=Europe/Berlin:20260506T150000
DTEND;TZID=Europe/Berlin:20260506T170000
DTSTAMP:20260422T122248
CREATED:20260214T200828Z
LAST-MODIFIED:20260214T200828Z
UID:10000908-1778079600-1778086800@evang-klosterneuburg.at
SUMMARY:Café der Generationen
DESCRIPTION:Alle Generationen können das Miteinander in Kaffeehaus-Atmosphäre genießen. Kinder können spielen\, während Eltern\, Großeltern und andere Begleitpersonen plaudern und Kaffee und Kuchen genießen. Willkommen sind alle! Spenden werden erbeten.
URL:https://evang-klosterneuburg.at/event/cafe-der-generationen-30/
LOCATION:Evangelische Pfarrgemeinde Klosterneuburg\, Franz-Rumplerstr. 14\, Klosterneuburg\, Niederösterreich\, 3400\, Austria
CATEGORIES:Kinder und Familie,Senioren
END:VEVENT
BEGIN:VEVENT
DTSTART;TZID=Europe/Berlin:20260507T150000
DTEND;TZID=Europe/Berlin:20260507T170000
DTSTAMP:20260422T122248
CREATED:20260215T190356Z
LAST-MODIFIED:20260215T190356Z
UID:10000932-1778166000-1778173200@evang-klosterneuburg.at
SUMMARY:Senior*innenkreis
DESCRIPTION:Plaudern
URL:https://evang-klosterneuburg.at/event/seniorinnenkreis-8/
LOCATION:Evangelische Pfarrgemeinde Klosterneuburg\, Franz-Rumplerstr. 14\, Klosterneuburg\, Niederösterreich\, 3400\, Austria
CATEGORIES:Senioren
END:VEVENT
BEGIN:VEVENT
DTSTART;TZID=Europe/Berlin:20260507T180000
DTEND;TZID=Europe/Berlin:20260507T210000
DTSTAMP:20260422T122248
CREATED:20260215T185558Z
LAST-MODIFIED:20260215T185558Z
UID:10000926-1778176800-1778187600@evang-klosterneuburg.at
SUMMARY:You-Gain-Treff
DESCRIPTION:Offener Jugendtreff für alle ab 14 und unsere aktuellen Konfis.
URL:https://evang-klosterneuburg.at/event/you-gain-treff-26/
LOCATION:Evangelische Pfarrgemeinde Klosterneuburg\, Franz-Rumplerstr. 14\, Klosterneuburg\, Niederösterreich\, 3400\, Austria
CATEGORIES:Konfis & Jugend
END:VEVENT
BEGIN:VEVENT
DTSTART;TZID=Europe/Berlin:20260508T180000
DTEND;TZID=Europe/Berlin:20260508T210000
DTSTAMP:20260422T122249
CREATED:20260115T112652Z
LAST-MODIFIED:20260115T112652Z
UID:10000870-1778263200-1778274000@evang-klosterneuburg.at
SUMMARY:Austauschtreffen Bereichsleitung
DESCRIPTION:
URL:https://evang-klosterneuburg.at/event/austauschtreffen-bereichsleitung-4/
END:VEVENT
BEGIN:VEVENT
DTSTART;TZID=Europe/Berlin:20260509T093000
DTEND;TZID=Europe/Berlin:20260509T133000
DTSTAMP:20260422T122249
CREATED:20260215T192120Z
LAST-MODIFIED:20260215T192120Z
UID:10000942-1778319000-1778333400@evang-klosterneuburg.at
SUMMARY:Konfi-Kurs
DESCRIPTION:
URL:https://evang-klosterneuburg.at/event/konfi-kurs-27/
LOCATION:Evangelische Pfarrgemeinde Klosterneuburg\, Franz-Rumplerstr. 14\, Klosterneuburg\, Niederösterreich\, 3400\, Austria
CATEGORIES:Konfis & Jugend
END:VEVENT
BEGIN:VEVENT
DTSTART;TZID=Europe/Berlin:20260510T093000
DTEND;TZID=Europe/Berlin:20260510T103000
DTSTAMP:20260422T122249
CREATED:20260214T162144Z
LAST-MODIFIED:20260214T194258Z
UID:10000889-1778405400-1778409000@evang-klosterneuburg.at
SUMMARY:Familiengottesdienst
DESCRIPTION:„Manchmal bin ich enttäuscht“ mit Kerstin Fritz\, anschließend Gemeindekaffee\, Organist Christian Stiegler
URL:https://evang-klosterneuburg.at/event/familiengottesdienst-12/
LOCATION:Evangelische Pfarrgemeinde Klosterneuburg\, Franz-Rumplerstr. 14\, Klosterneuburg\, Niederösterreich\, 3400\, Austria
CATEGORIES:Gottesdienst,Kinder und Familie
END:VEVENT
BEGIN:VEVENT
DTSTART;TZID=Europe/Berlin:20260511T190000
DTEND;TZID=Europe/Berlin:20260511T210000
DTSTAMP:20260422T122249
CREATED:20260214T201229Z
LAST-MODIFIED:20260214T201229Z
UID:10000911-1778526000-1778533200@evang-klosterneuburg.at
SUMMARY:Gesprächskreis
DESCRIPTION:Gespräche über Gott und die Welt
URL:https://evang-klosterneuburg.at/event/gespraechskreis-28/
LOCATION:Evangelische Pfarrgemeinde Klosterneuburg\, Franz-Rumplerstr. 14\, Klosterneuburg\, Niederösterreich\, 3400\, Austria
CATEGORIES:Gesprächs- und Bibelkreis
END:VEVENT
BEGIN:VEVENT
DTSTART;TZID=Europe/Berlin:20260516T093000
DTEND;TZID=Europe/Berlin:20260516T123000
DTSTAMP:20260422T122249
CREATED:20260214T200406Z
LAST-MODIFIED:20260326T123144Z
UID:10000904-1778923800-1778934600@evang-klosterneuburg.at
SUMMARY:Elternfrühstück
DESCRIPTION:Wir wollen uns Zeit nehmen zum Ankommen\, Austauschen\, Lachen und vielleicht auch zum ehrlichen Erzählen\, wie es uns gerade so geht. Erfahrungen zu teilen und zu merken: Wir sind mit unseren Themen nicht allein. \nFür alle Kinder im Alter von 8 bis 13 Jahren findet parallel von 9:30 bis 12:30 unsere Jungschar statt!
URL:https://evang-klosterneuburg.at/event/elternfruehstueck-5/
LOCATION:Evangelische Pfarrgemeinde Klosterneuburg\, Franz-Rumplerstr. 14\, Klosterneuburg\, Niederösterreich\, 3400\, Austria
CATEGORIES:Gesprächs- und Bibelkreis,Kinder und Familie
END:VEVENT
BEGIN:VEVENT
DTSTART;TZID=Europe/Berlin:20260516T093000
DTEND;TZID=Europe/Berlin:20260516T123000
DTSTAMP:20260422T122249
CREATED:20260215T184621Z
LAST-MODIFIED:20260215T184621Z
UID:10000916-1778923800-1778934600@evang-klosterneuburg.at
SUMMARY:Jungschar
DESCRIPTION:Ein offenes Treffen für Kinder und Jugendliche von 8 bis 13 Jahren. \nIm Vordergrund stehen Spiel\, Spaß und Freundschaft!
URL:https://evang-klosterneuburg.at/event/jungschar-27/
LOCATION:Evangelische Pfarrgemeinde Klosterneuburg\, Franz-Rumplerstr. 14\, Klosterneuburg\, Niederösterreich\, 3400\, Austria
CATEGORIES:Kinder und Familie
END:VEVENT
BEGIN:VEVENT
DTSTART;TZID=Europe/Berlin:20260517T080000
DTEND;TZID=Europe/Berlin:20260517T183000
DTSTAMP:20260422T122249
CREATED:20260215T195521Z
LAST-MODIFIED:20260215T195521Z
UID:10000949-1779004800-1779042600@evang-klosterneuburg.at
SUMMARY:Ökumenische Wanderung
DESCRIPTION:Als ökumenische Gemeinschaft auf dem Weg von Niederhollabrunn über den Michelberg nach Stockerau\, Gehzeit ca. 4\,5 Std\, mit Kerstin Fritz\, Walter Schaupp und Walter Müller.\nBitte um Anmeldung bis 4. Mai 2026 in der Kanzlei oder per E-Mail unter pg.klosterneuburg@evang.at
URL:https://evang-klosterneuburg.at/event/oekumenische-wanderung/
CATEGORIES:Ökumene
END:VEVENT
BEGIN:VEVENT
DTSTART;TZID=Europe/Berlin:20260517T093000
DTEND;TZID=Europe/Berlin:20260517T103000
DTSTAMP:20260422T122249
CREATED:20260214T162307Z
LAST-MODIFIED:20260214T194349Z
UID:10000890-1779010200-1779013800@evang-klosterneuburg.at
SUMMARY:Gottesdienst
DESCRIPTION:mit Irmi Forkert\, parallel Kindergottesdienst\, Organist Christian Bauer
URL:https://evang-klosterneuburg.at/event/gottesdienst-122/
LOCATION:Evangelische Pfarrgemeinde Klosterneuburg\, Franz-Rumplerstr. 14\, Klosterneuburg\, Niederösterreich\, 3400\, Austria
CATEGORIES:Gottesdienst,Kinder und Familie
END:VEVENT
BEGIN:VEVENT
DTSTART;TZID=Europe/Berlin:20260520T090000
DTEND;TZID=Europe/Berlin:20260520T110000
DTSTAMP:20260422T122249
CREATED:20260215T185106Z
LAST-MODIFIED:20260215T185106Z
UID:10000920-1779267600-1779274800@evang-klosterneuburg.at
SUMMARY:Bibelfrühstück
DESCRIPTION:
URL:https://evang-klosterneuburg.at/event/bibelfruehstueck-27/
LOCATION:Evangelische Pfarrgemeinde Klosterneuburg\, Franz-Rumplerstr. 14\, Klosterneuburg\, Niederösterreich\, 3400\, Austria
CATEGORIES:Gesprächs- und Bibelkreis
END:VEVENT
BEGIN:VEVENT
DTSTART;TZID=Europe/Berlin:20260521T180000
DTEND;TZID=Europe/Berlin:20260521T210000
DTSTAMP:20260422T122249
CREATED:20260215T185629Z
LAST-MODIFIED:20260215T185629Z
UID:10000927-1779386400-1779397200@evang-klosterneuburg.at
SUMMARY:You-Gain-Treff
DESCRIPTION:Offener Jugendtreff für alle ab 14 und unsere aktuellen Konfis.
URL:https://evang-klosterneuburg.at/event/you-gain-treff-27/
LOCATION:Evangelische Pfarrgemeinde Klosterneuburg\, Franz-Rumplerstr. 14\, Klosterneuburg\, Niederösterreich\, 3400\, Austria
CATEGORIES:Konfis & Jugend
END:VEVENT
BEGIN:VEVENT
DTSTART;TZID=Europe/Berlin:20260524T093000
DTEND;TZID=Europe/Berlin:20260524T103000
DTSTAMP:20260422T122249
CREATED:20260214T162812Z
LAST-MODIFIED:20260214T194532Z
UID:10000891-1779615000-1779618600@evang-klosterneuburg.at
SUMMARY:Gottesdienst am Pfingstsonntag
DESCRIPTION:mit Kerstin Fritz\, Organist Christian Bauer
URL:https://evang-klosterneuburg.at/event/gottesdienst-am-pfingstsonntag/
LOCATION:Evangelische Pfarrgemeinde Klosterneuburg\, Franz-Rumplerstr. 14\, Klosterneuburg\, Niederösterreich\, 3400\, Austria
CATEGORIES:Gottesdienst
END:VEVENT
BEGIN:VEVENT
DTSTART;TZID=Europe/Berlin:20260525T093000
DTEND;TZID=Europe/Berlin:20260525T103000
DTSTAMP:20260422T122249
CREATED:20260214T163212Z
LAST-MODIFIED:20260214T194629Z
UID:10000892-1779701400-1779705000@evang-klosterneuburg.at
SUMMARY:Gottesdienst am Pfingstmontag Konfirmation
DESCRIPTION:mit Kerstin Fritz\, Organistin Gabriele Höfer
URL:https://evang-klosterneuburg.at/event/gottesdienst-am-pfingstmontag-konfirmation/
LOCATION:Evangelische Pfarrgemeinde Klosterneuburg\, Franz-Rumplerstr. 14\, Klosterneuburg\, Niederösterreich\, 3400\, Austria
CATEGORIES:Gottesdienst,Kinder und Familie
END:VEVENT
BEGIN:VEVENT
DTSTART;TZID=Europe/Berlin:20260527T150000
DTEND;TZID=Europe/Berlin:20260527T163000
DTSTAMP:20260422T122249
CREATED:20260214T195951Z
LAST-MODIFIED:20260214T195951Z
UID:10000900-1779894000-1779899400@evang-klosterneuburg.at
SUMMARY:Zwergerl-Treff
DESCRIPTION:für alle von 0 bis 7 Jahren mit ihren Begleitpersonen.
URL:https://evang-klosterneuburg.at/event/zwergerl-treff-36/
LOCATION:Evangelische Pfarrgemeinde Klosterneuburg\, Franz-Rumplerstr. 14\, Klosterneuburg\, Niederösterreich\, 3400\, Austria
CATEGORIES:Kinder und Familie
END:VEVENT
BEGIN:VEVENT
DTSTART;TZID=Europe/Berlin:20260528T150000
DTEND;TZID=Europe/Berlin:20260528T170000
DTSTAMP:20260422T122249
CREATED:20260215T190747Z
LAST-MODIFIED:20260215T190747Z
UID:10000936-1779980400-1779987600@evang-klosterneuburg.at
SUMMARY:Senior*innenkreis
DESCRIPTION:mit Vortrag
URL:https://evang-klosterneuburg.at/event/seniorinnenkreis-12/
LOCATION:Evangelische Pfarrgemeinde Klosterneuburg\, Franz-Rumplerstr. 14\, Klosterneuburg\, Niederösterreich\, 3400\, Austria
CATEGORIES:Senioren
END:VEVENT
BEGIN:VEVENT
DTSTART;TZID=Europe/Berlin:20260528T183000
DTEND;TZID=Europe/Berlin:20260528T200000
DTSTAMP:20260422T122249
CREATED:20260215T193802Z
LAST-MODIFIED:20260215T193802Z
UID:10000946-1779993000-1779998400@evang-klosterneuburg.at
SUMMARY:Offene Schreibwerkstatt
DESCRIPTION:mit Hubertus September \nEingeladen sind alle Menschen zwischen 14 und 114\, die gerne schreiben oder schon länger den Wunsch haben\, eigene Texte zu verfassen. Vorkenntnisse sind keine\nnötig\, lediglich Neugier und Lust aufs Schreiben allgemein.
URL:https://evang-klosterneuburg.at/event/offene-schreibwerkstatt-3/
LOCATION:Evangelische Pfarrgemeinde Klosterneuburg\, Franz-Rumplerstr. 14\, Klosterneuburg\, Niederösterreich\, 3400\, Austria
END:VEVENT
END:VCALENDAR