BEGIN:VCALENDAR
VERSION:2.0
PRODID:-//evang-klosterneuburg.at - ECPv6.15.18//NONSGML v1.0//EN
CALSCALE:GREGORIAN
METHOD:PUBLISH
X-ORIGINAL-URL:https://evang-klosterneuburg.at
X-WR-CALDESC:Veranstaltungen für evang-klosterneuburg.at
REFRESH-INTERVAL;VALUE=DURATION:PT1H
X-Robots-Tag:noindex
X-PUBLISHED-TTL:PT1H
BEGIN:VTIMEZONE
TZID:Europe/Berlin
BEGIN:DAYLIGHT
TZOFFSETFROM:+0100
TZOFFSETTO:+0200
TZNAME:CEST
DTSTART:20240331T010000
END:DAYLIGHT
BEGIN:STANDARD
TZOFFSETFROM:+0200
TZOFFSETTO:+0100
TZNAME:CET
DTSTART:20241027T010000
END:STANDARD
BEGIN:DAYLIGHT
TZOFFSETFROM:+0100
TZOFFSETTO:+0200
TZNAME:CEST
DTSTART:20250330T010000
END:DAYLIGHT
BEGIN:STANDARD
TZOFFSETFROM:+0200
TZOFFSETTO:+0100
TZNAME:CET
DTSTART:20251026T010000
END:STANDARD
BEGIN:DAYLIGHT
TZOFFSETFROM:+0100
TZOFFSETTO:+0200
TZNAME:CEST
DTSTART:20260329T010000
END:DAYLIGHT
BEGIN:STANDARD
TZOFFSETFROM:+0200
TZOFFSETTO:+0100
TZNAME:CET
DTSTART:20261025T010000
END:STANDARD
END:VTIMEZONE
BEGIN:VEVENT
DTSTART;TZID=Europe/Berlin:20251102T093000
DTEND;TZID=Europe/Berlin:20251102T103000
DTSTAMP:20260422T232315
CREATED:20250823T194826Z
LAST-MODIFIED:20250823T194826Z
UID:10000730-1762075800-1762079400@evang-klosterneuburg.at
SUMMARY:Gottesdienst
DESCRIPTION:mit Markus Fellinger\, Abendmahl\, Organistin Gabriele Höfer
URL:https://evang-klosterneuburg.at/event/gottesdienst-102/
LOCATION:Evangelische Pfarrgemeinde Klosterneuburg\, Franz-Rumplerstr. 14\, Klosterneuburg\, Niederösterreich\, 3400\, Austria
CATEGORIES:Gottesdienst
END:VEVENT
BEGIN:VEVENT
DTSTART;TZID=Europe/Berlin:20251105T180000
DTEND;TZID=Europe/Berlin:20251105T193000
DTSTAMP:20260422T232315
CREATED:20250824T190747Z
LAST-MODIFIED:20250824T190747Z
UID:10000775-1762365600-1762371000@evang-klosterneuburg.at
SUMMARY:Chor-Probe "EvanGospel"
DESCRIPTION:
URL:https://evang-klosterneuburg.at/event/chor-probe-evangospel-72/
LOCATION:Evangelische Pfarrgemeinde Klosterneuburg\, Franz-Rumplerstr. 14\, Klosterneuburg\, Niederösterreich\, 3400\, Austria
CATEGORIES:Chor
END:VEVENT
BEGIN:VEVENT
DTSTART;TZID=Europe/Berlin:20251106T180000
DTEND;TZID=Europe/Berlin:20251106T210000
DTSTAMP:20260422T232315
CREATED:20250824T174054Z
LAST-MODIFIED:20251106T081511Z
UID:10000740-1762452000-1762462800@evang-klosterneuburg.at
SUMMARY:VERSCHOBEN: You-Gain-Treff
DESCRIPTION:Dieser Termin wird auf den 13. November verschoben! \nOffener Jugendtreff für alle ab 14 und unsere aktuellen Konfis.
URL:https://evang-klosterneuburg.at/event/you-gain-treff-12/
LOCATION:Evangelische Pfarrgemeinde Klosterneuburg\, Franz-Rumplerstr. 14\, Klosterneuburg\, Niederösterreich\, 3400\, Austria
CATEGORIES:Konfis & Jugend
END:VEVENT
BEGIN:VEVENT
DTSTART;TZID=Europe/Berlin:20251109T093000
DTEND;TZID=Europe/Berlin:20251109T103000
DTSTAMP:20260422T232316
CREATED:20250823T195142Z
LAST-MODIFIED:20250823T201202Z
UID:10000731-1762680600-1762684200@evang-klosterneuburg.at
SUMMARY:Familiengottesdienst
DESCRIPTION:mit FamilienGD-Team\, Organist Christian Stiegler\, anschließend Gemeindekaffee
URL:https://evang-klosterneuburg.at/event/familiengottesdienst-8/
LOCATION:Evangelische Pfarrgemeinde Klosterneuburg\, Franz-Rumplerstr. 14\, Klosterneuburg\, Niederösterreich\, 3400\, Austria
CATEGORIES:Gottesdienst,Kinder und Familie
END:VEVENT
BEGIN:VEVENT
DTSTART;TZID=Europe/Berlin:20251110T190000
DTEND;TZID=Europe/Berlin:20251110T210000
DTSTAMP:20260422T232316
CREATED:20250824T185624Z
LAST-MODIFIED:20250824T185624Z
UID:10000768-1762801200-1762808400@evang-klosterneuburg.at
SUMMARY:Gesprächskreis
DESCRIPTION:Gespräche über Gott und die Welt
URL:https://evang-klosterneuburg.at/event/gespraechskreis-22/
LOCATION:Evangelische Pfarrgemeinde Klosterneuburg\, Franz-Rumplerstr. 14\, Klosterneuburg\, Niederösterreich\, 3400\, Austria
CATEGORIES:Gesprächs- und Bibelkreis
END:VEVENT
BEGIN:VEVENT
DTSTART;TZID=Europe/Berlin:20251112T160000
DTEND;TZID=Europe/Berlin:20251112T173000
DTSTAMP:20260422T232316
CREATED:20250824T182447Z
LAST-MODIFIED:20250824T182447Z
UID:10000752-1762963200-1762968600@evang-klosterneuburg.at
SUMMARY:Tauferinnerungskurs
DESCRIPTION:
URL:https://evang-klosterneuburg.at/event/tauferinnerungskurs-21/
LOCATION:Evangelische Pfarrgemeinde Klosterneuburg\, Franz-Rumplerstr. 14\, Klosterneuburg\, Niederösterreich\, 3400\, Austria
CATEGORIES:Kinder und Familie
END:VEVENT
BEGIN:VEVENT
DTSTART;TZID=Europe/Berlin:20251112T180000
DTEND;TZID=Europe/Berlin:20251112T193000
DTSTAMP:20260422T232316
CREATED:20250824T190820Z
LAST-MODIFIED:20250824T190820Z
UID:10000776-1762970400-1762975800@evang-klosterneuburg.at
SUMMARY:Chor-Probe "EvanGospel"
DESCRIPTION:
URL:https://evang-klosterneuburg.at/event/chor-probe-evangospel-73/
LOCATION:Evangelische Pfarrgemeinde Klosterneuburg\, Franz-Rumplerstr. 14\, Klosterneuburg\, Niederösterreich\, 3400\, Austria
CATEGORIES:Chor
END:VEVENT
BEGIN:VEVENT
DTSTART;TZID=Europe/Berlin:20251113T150000
DTEND;TZID=Europe/Berlin:20251113T170000
DTSTAMP:20260422T232316
CREATED:20251113T081939Z
LAST-MODIFIED:20251113T082151Z
UID:10000794-1763046000-1763053200@evang-klosterneuburg.at
SUMMARY:Seniorenkreis
DESCRIPTION:Zeit zum Plaudern \nAn diesem neuen Termin laden wir zu einem gemütlichen Beisammensein ein. Im Mittelpunkt steht dabei der persönliche Austausch in eintspannter Atmosphäre. Bei einer Tasse Kaffe können Gespräche geführt\, neue Kontakte geknüpft oder alte Freundschaften gespflegt werden – ganz ohne Vortrag oder festes Programm. \nÜber eine Anmeldung freut sich Gabi Holzer unter 0699/19 26 40 82
URL:https://evang-klosterneuburg.at/event/seniorenkreis-28/
LOCATION:Evangelische Pfarrgemeinde Klosterneuburg\, Franz-Rumplerstr. 14\, Klosterneuburg\, Niederösterreich\, 3400\, Austria
CATEGORIES:Senioren
END:VEVENT
BEGIN:VEVENT
DTSTART;TZID=Europe/Berlin:20251113T180000
DTEND;TZID=Europe/Berlin:20251113T210000
DTSTAMP:20260422T232316
CREATED:20251106T082144Z
LAST-MODIFIED:20251106T082144Z
UID:10000792-1763056800-1763067600@evang-klosterneuburg.at
SUMMARY:You-Gain-Treff
DESCRIPTION:Offener Jugendtreff für alle ab 14 und unsere aktuellen Konfis.
URL:https://evang-klosterneuburg.at/event/you-gain-treff-16/
LOCATION:Evangelische Pfarrgemeinde Klosterneuburg\, Franz-Rumplerstr. 14\, Klosterneuburg\, Niederösterreich\, 3400\, Austria
CATEGORIES:Konfis & Jugend
END:VEVENT
BEGIN:VEVENT
DTSTART;TZID=Europe/Berlin:20251115T093000
DTEND;TZID=Europe/Berlin:20251115T133000
DTSTAMP:20260422T232316
CREATED:20250824T185014Z
LAST-MODIFIED:20251113T075118Z
UID:10000765-1763199000-1763213400@evang-klosterneuburg.at
SUMMARY:Konfi-Kurs
DESCRIPTION:
URL:https://evang-klosterneuburg.at/event/konfi-kurs-19/
LOCATION:Evangelische Pfarrgemeinde Klosterneuburg\, Franz-Rumplerstr. 14\, Klosterneuburg\, Niederösterreich\, 3400\, Austria
CATEGORIES:Konfis & Jugend
END:VEVENT
BEGIN:VEVENT
DTSTART;TZID=Europe/Berlin:20251116T093000
DTEND;TZID=Europe/Berlin:20251116T103000
DTSTAMP:20260422T232316
CREATED:20250823T195438Z
LAST-MODIFIED:20250823T195438Z
UID:10000732-1763285400-1763289000@evang-klosterneuburg.at
SUMMARY:Gottesdienst
DESCRIPTION:mit Irmi Forkert\, parallel Kindergottesdienst\, Organist Christian Bauer
URL:https://evang-klosterneuburg.at/event/gottesdienst-103/
LOCATION:Evangelische Pfarrgemeinde Klosterneuburg\, Franz-Rumplerstr. 14\, Klosterneuburg\, Niederösterreich\, 3400\, Austria
CATEGORIES:Gottesdienst,Kinder und Familie
END:VEVENT
BEGIN:VEVENT
DTSTART;TZID=Europe/Berlin:20251118T180000
DTEND;TZID=Europe/Berlin:20251118T200000
DTSTAMP:20260422T232316
CREATED:20251113T082920Z
LAST-MODIFIED:20251113T082920Z
UID:10000795-1763488800-1763496000@evang-klosterneuburg.at
SUMMARY:Auf dem spirituellen Weg
DESCRIPTION:Jeden 3. Donnerstag im Monat von 18.00 bis 20.00 Uhr treffen wir einander im Pfarrhaus im kleinen Kreis\, um uns anhand eines Themas oder Textes über persönliche Glaubens- und Lebensfragen auszutauschen. Wir verstehen uns als Suchende\, die hoffen und auch Zweifel aussprechen. Offenheit anderen Einstellungen gegenüber ist uns wichtig. So ist gegenseitiges Vertrauen entstanden\, das für usn sehr wertvoll geworden ist und das uns im Glauben und als Menschen wachsen lässt. \nUlli\, Gabi\, Marieluise\, Gregor
URL:https://evang-klosterneuburg.at/event/auf-dem-spirituellen-weg/
CATEGORIES:Gesprächs- und Bibelkreis
END:VEVENT
BEGIN:VEVENT
DTSTART;TZID=Europe/Berlin:20251119T090000
DTEND;TZID=Europe/Berlin:20251119T110000
DTSTAMP:20260422T232316
CREATED:20250824T183721Z
LAST-MODIFIED:20251113T102448Z
UID:10000760-1763542800-1763550000@evang-klosterneuburg.at
SUMMARY:Bibelfrühstück
DESCRIPTION:Johannes 5\,24-29 \n„…der hat das ewige Leben!“
URL:https://evang-klosterneuburg.at/event/bibelfruehstueck-21/
LOCATION:Evangelische Pfarrgemeinde Klosterneuburg\, Franz-Rumplerstr. 14\, Klosterneuburg\, Niederösterreich\, 3400\, Austria
CATEGORIES:Gesprächs- und Bibelkreis
END:VEVENT
BEGIN:VEVENT
DTSTART;TZID=Europe/Berlin:20251119T150000
DTEND;TZID=Europe/Berlin:20251119T170000
DTSTAMP:20260422T232316
CREATED:20250825T133255Z
LAST-MODIFIED:20250825T133255Z
UID:10000786-1763564400-1763571600@evang-klosterneuburg.at
SUMMARY:Café der Generationen
DESCRIPTION:Alle Generationen können das Miteinander in Kaffeehaus-Atmosphäre genießen. Kinder können spielen\, während Eltern\, Großeltern und andere Begleitpersonen plaudern und Kaffee und Kuchen genießen. Willkommen sind alle! Spenden werden erbeten.
URL:https://evang-klosterneuburg.at/event/cafe-der-generationen-24/
LOCATION:Evangelische Pfarrgemeinde Klosterneuburg\, Franz-Rumplerstr. 14\, Klosterneuburg\, Niederösterreich\, 3400\, Austria
CATEGORIES:Kinder und Familie,Senioren
END:VEVENT
BEGIN:VEVENT
DTSTART;TZID=Europe/Berlin:20251119T180000
DTEND;TZID=Europe/Berlin:20251119T193000
DTSTAMP:20260422T232316
CREATED:20250824T190844Z
LAST-MODIFIED:20250824T190844Z
UID:10000777-1763575200-1763580600@evang-klosterneuburg.at
SUMMARY:Chor-Probe "EvanGospel"
DESCRIPTION:
URL:https://evang-klosterneuburg.at/event/chor-probe-evangospel-74/
LOCATION:Evangelische Pfarrgemeinde Klosterneuburg\, Franz-Rumplerstr. 14\, Klosterneuburg\, Niederösterreich\, 3400\, Austria
CATEGORIES:Chor
END:VEVENT
BEGIN:VEVENT
DTSTART;TZID=Europe/Berlin:20251120T180000
DTEND;TZID=Europe/Berlin:20251120T193000
DTSTAMP:20260422T232316
CREATED:20250825T132853Z
LAST-MODIFIED:20250825T135448Z
UID:10000784-1763661600-1763667000@evang-klosterneuburg.at
SUMMARY:Weltreiseabend Südsee
DESCRIPTION:Vortrag mit Lars Müller-Marienburg
URL:https://evang-klosterneuburg.at/event/weltreiseabend-suedsee/
LOCATION:Evangelische Pfarrgemeinde Klosterneuburg\, Franz-Rumplerstr. 14\, Klosterneuburg\, Niederösterreich\, 3400\, Austria
CATEGORIES:Konzerte und Vorträge
END:VEVENT
BEGIN:VEVENT
DTSTART;TZID=Europe/Berlin:20251120T180000
DTEND;TZID=Europe/Berlin:20251120T210000
DTSTAMP:20260422T232316
CREATED:20250824T174137Z
LAST-MODIFIED:20250824T174137Z
UID:10000741-1763661600-1763672400@evang-klosterneuburg.at
SUMMARY:You-Gain-Treff
DESCRIPTION:Offener Jugendtreff für alle ab 14 und unsere aktuellen Konfis.
URL:https://evang-klosterneuburg.at/event/you-gain-treff-13/
LOCATION:Evangelische Pfarrgemeinde Klosterneuburg\, Franz-Rumplerstr. 14\, Klosterneuburg\, Niederösterreich\, 3400\, Austria
CATEGORIES:Konfis & Jugend
END:VEVENT
BEGIN:VEVENT
DTSTART;TZID=Europe/Berlin:20251122T093000
DTEND;TZID=Europe/Berlin:20251122T123000
DTSTAMP:20260422T232316
CREATED:20250824T181054Z
LAST-MODIFIED:20250824T181054Z
UID:10000749-1763803800-1763814600@evang-klosterneuburg.at
SUMMARY:Jungschar
DESCRIPTION:Ein offenes Treffen für Kinder und Jugendliche von 8 bis 13 Jahren. \nIm Vordergrund stehen Spiel\, Spaß und Freundschaft!
URL:https://evang-klosterneuburg.at/event/jungschar-21/
LOCATION:Evangelische Pfarrgemeinde Klosterneuburg\, Franz-Rumplerstr. 14\, Klosterneuburg\, Niederösterreich\, 3400\, Austria
CATEGORIES:Kinder und Familie
END:VEVENT
BEGIN:VEVENT
DTSTART;TZID=Europe/Berlin:20251122T153000
DTEND;TZID=Europe/Berlin:20251122T164500
DTSTAMP:20260422T232316
CREATED:20251113T095652Z
LAST-MODIFIED:20251114T130949Z
UID:10000797-1763825400-1763829900@evang-klosterneuburg.at
SUMMARY:Konzert - Die Pilgrime auf Golgotha
DESCRIPTION:Internationale Albrechtsberger Gesellschaft\nDie Pilgrime auf Golgotha\nJ. G. Albrechtsberger \nPreviewkonzert. Erstedition. Erstaufführung \nSpenden erbeten! \nAnmeldung: doris.fuereder@outlook.com
URL:https://evang-klosterneuburg.at/event/konzert-die-pilgrime-auf-golgotha/
CATEGORIES:Konzerte und Vorträge
ATTACH;FMTTYPE=image/png:https://evang-klosterneuburg.at/wp-content/uploads/2025/11/Screenshot-2025-11-14-105501.png
END:VEVENT
BEGIN:VEVENT
DTSTART;TZID=Europe/Berlin:20251122T180000
DTEND;TZID=Europe/Berlin:20251122T200000
DTSTAMP:20260422T232316
CREATED:20251113T094816Z
LAST-MODIFIED:20251113T094816Z
UID:10000796-1763834400-1763841600@evang-klosterneuburg.at
SUMMARY:Chor-Probe "EvanGospel"
DESCRIPTION:Probe für Auftritt am 23. November
URL:https://evang-klosterneuburg.at/event/chor-probe-evangospel-79/
LOCATION:Evangelische Pfarrgemeinde Klosterneuburg\, Franz-Rumplerstr. 14\, Klosterneuburg\, Niederösterreich\, 3400\, Austria
CATEGORIES:Chor
END:VEVENT
BEGIN:VEVENT
DTSTART;TZID=Europe/Berlin:20251123T093000
DTEND;TZID=Europe/Berlin:20251123T103000
DTSTAMP:20260422T232316
CREATED:20250823T195852Z
LAST-MODIFIED:20251117T175738Z
UID:10000733-1763890200-1763893800@evang-klosterneuburg.at
SUMMARY:Gottesdienst
DESCRIPTION:zum Ewigkeitssonntag mit Kerstin Fritz – J.S. Bach: Kantate BWV125 „Mit Fried und Freud fahr ich dahin“ (Gospelchor\, Soli und Ensemble)\, Abendmahl\, parallel Kindergottesdienst\, Organist Christian Bauer
URL:https://evang-klosterneuburg.at/event/gottesdienst-104/
LOCATION:Evangelische Pfarrgemeinde Klosterneuburg\, Franz-Rumplerstr. 14\, Klosterneuburg\, Niederösterreich\, 3400\, Austria
CATEGORIES:Gottesdienst,Kinder und Familie
ATTACH;FMTTYPE=image/jpeg:https://evang-klosterneuburg.at/wp-content/uploads/2025/08/Bildschirmfoto_13-11-2025_11132_.jpeg
END:VEVENT
BEGIN:VEVENT
DTSTART;TZID=Europe/Berlin:20251126T150000
DTEND;TZID=Europe/Berlin:20251126T163000
DTSTAMP:20260422T232316
CREATED:20250824T173508Z
LAST-MODIFIED:20250904T083028Z
UID:10000736-1764169200-1764174600@evang-klosterneuburg.at
SUMMARY:Zwergerl-Treff
DESCRIPTION:für alle von 0 bis 7 Jahren mit ihren Begleitpersonen
URL:https://evang-klosterneuburg.at/event/zwergerl-treff-31/
LOCATION:Evangelische Pfarrgemeinde Klosterneuburg\, Franz-Rumplerstr. 14\, Klosterneuburg\, Niederösterreich\, 3400\, Austria
CATEGORIES:Kinder und Familie
END:VEVENT
BEGIN:VEVENT
DTSTART;TZID=Europe/Berlin:20251126T180000
DTEND;TZID=Europe/Berlin:20251126T193000
DTSTAMP:20260422T232316
CREATED:20250824T190908Z
LAST-MODIFIED:20250824T190908Z
UID:10000778-1764180000-1764185400@evang-klosterneuburg.at
SUMMARY:Chor-Probe "EvanGospel"
DESCRIPTION:
URL:https://evang-klosterneuburg.at/event/chor-probe-evangospel-75/
LOCATION:Evangelische Pfarrgemeinde Klosterneuburg\, Franz-Rumplerstr. 14\, Klosterneuburg\, Niederösterreich\, 3400\, Austria
CATEGORIES:Chor
END:VEVENT
BEGIN:VEVENT
DTSTART;TZID=Europe/Berlin:20251127T150000
DTEND;TZID=Europe/Berlin:20251127T170000
DTSTAMP:20260422T232316
CREATED:20250824T174912Z
LAST-MODIFIED:20251113T100951Z
UID:10000745-1764255600-1764262800@evang-klosterneuburg.at
SUMMARY:Seniorenkreis
DESCRIPTION:mit Geburtstagsfeier und Jause und Vortrag: Christian Dotti – Böhmen
URL:https://evang-klosterneuburg.at/event/seniorenkreis-26/
LOCATION:Evangelische Pfarrgemeinde Klosterneuburg\, Franz-Rumplerstr. 14\, Klosterneuburg\, Niederösterreich\, 3400\, Austria
CATEGORIES:Senioren
END:VEVENT
BEGIN:VEVENT
DTSTART;TZID=Europe/Berlin:20251130T093000
DTEND;TZID=Europe/Berlin:20251130T103000
DTSTAMP:20260422T232316
CREATED:20250823T200443Z
LAST-MODIFIED:20251117T180752Z
UID:10000734-1764495000-1764498600@evang-klosterneuburg.at
SUMMARY:Theater-Gottesdienst zum 1. Advent
DESCRIPTION:Johannes der Täufer – Bereitet dem Herrn die Wege\nMit kurzer Einführung und moderiertem Nachgespräch.\nmit Kerstin Fritz\, parallel Kindergottesdienst\, Organistin Sybille von Both
URL:https://evang-klosterneuburg.at/event/gottesdienst-zum-1-advent/
LOCATION:Evangelische Pfarrgemeinde Klosterneuburg\, Franz-Rumplerstr. 14\, Klosterneuburg\, Niederösterreich\, 3400\, Austria
CATEGORIES:Gottesdienst,Kinder und Familie
ATTACH;FMTTYPE=image/jpeg:https://evang-klosterneuburg.at/wp-content/uploads/2025/08/Bildschirmfoto_13-11-2025_111246_.jpeg
END:VEVENT
BEGIN:VEVENT
DTSTART;TZID=Europe/Berlin:20251130T093000
DTEND;TZID=Europe/Berlin:20251130T123000
DTSTAMP:20260422T232316
CREATED:20250824T185123Z
LAST-MODIFIED:20250824T185123Z
UID:10000766-1764495000-1764505800@evang-klosterneuburg.at
SUMMARY:Konfi-Kurs
DESCRIPTION:
URL:https://evang-klosterneuburg.at/event/konfi-kurs-20/
LOCATION:Evangelische Pfarrgemeinde Klosterneuburg\, Franz-Rumplerstr. 14\, Klosterneuburg\, Niederösterreich\, 3400\, Austria
CATEGORIES:Konfis & Jugend
END:VEVENT
END:VCALENDAR