BEGIN:VCALENDAR
VERSION:2.0
PRODID:-//evang-klosterneuburg.at - ECPv6.15.18//NONSGML v1.0//EN
CALSCALE:GREGORIAN
METHOD:PUBLISH
X-ORIGINAL-URL:https://evang-klosterneuburg.at
X-WR-CALDESC:Veranstaltungen für evang-klosterneuburg.at
REFRESH-INTERVAL;VALUE=DURATION:PT1H
X-Robots-Tag:noindex
X-PUBLISHED-TTL:PT1H
BEGIN:VTIMEZONE
TZID:Europe/Berlin
BEGIN:DAYLIGHT
TZOFFSETFROM:+0100
TZOFFSETTO:+0200
TZNAME:CEST
DTSTART:20250330T010000
END:DAYLIGHT
BEGIN:STANDARD
TZOFFSETFROM:+0200
TZOFFSETTO:+0100
TZNAME:CET
DTSTART:20251026T010000
END:STANDARD
BEGIN:DAYLIGHT
TZOFFSETFROM:+0100
TZOFFSETTO:+0200
TZNAME:CEST
DTSTART:20260329T010000
END:DAYLIGHT
BEGIN:STANDARD
TZOFFSETFROM:+0200
TZOFFSETTO:+0100
TZNAME:CET
DTSTART:20261025T010000
END:STANDARD
BEGIN:DAYLIGHT
TZOFFSETFROM:+0100
TZOFFSETTO:+0200
TZNAME:CEST
DTSTART:20270328T010000
END:DAYLIGHT
BEGIN:STANDARD
TZOFFSETFROM:+0200
TZOFFSETTO:+0100
TZNAME:CET
DTSTART:20271031T010000
END:STANDARD
END:VTIMEZONE
BEGIN:VEVENT
DTSTART;TZID=Europe/Berlin:20260104T093000
DTEND;TZID=Europe/Berlin:20260104T103000
DTSTAMP:20260422T200350
CREATED:20251116T203351Z
LAST-MODIFIED:20251116T203351Z
UID:10000807-1767519000-1767522600@evang-klosterneuburg.at
SUMMARY:Gottesdienst
DESCRIPTION:mit Kerstin Fritz
URL:https://evang-klosterneuburg.at/event/gottesdienst-109/
LOCATION:Evangelische Pfarrgemeinde Klosterneuburg\, Franz-Rumplerstr. 14\, Klosterneuburg\, Niederösterreich\, 3400\, Austria
CATEGORIES:Gottesdienst
END:VEVENT
BEGIN:VEVENT
DTSTART;TZID=Europe/Berlin:20260107T180000
DTEND;TZID=Europe/Berlin:20260107T200000
DTSTAMP:20260422T200350
CREATED:20251119T094554Z
LAST-MODIFIED:20251119T094554Z
UID:10000849-1767808800-1767816000@evang-klosterneuburg.at
SUMMARY:Chor-Probe "EvanGospel"
DESCRIPTION:
URL:https://evang-klosterneuburg.at/event/chor-probe-evangospel-80/
LOCATION:Evangelische Pfarrgemeinde Klosterneuburg\, Franz-Rumplerstr. 14\, Klosterneuburg\, Niederösterreich\, 3400\, Austria
CATEGORIES:Chor
END:VEVENT
BEGIN:VEVENT
DTSTART;TZID=Europe/Berlin:20260108T180000
DTEND;TZID=Europe/Berlin:20260108T210000
DTSTAMP:20260422T200350
CREATED:20251118T185741Z
LAST-MODIFIED:20251118T185741Z
UID:10000833-1767895200-1767906000@evang-klosterneuburg.at
SUMMARY:You-Gain-Treff
DESCRIPTION:Offener Jugendtreff für alle ab 14 und unsere aktuellen Konfis.
URL:https://evang-klosterneuburg.at/event/you-gain-treff-17/
LOCATION:Evangelische Pfarrgemeinde Klosterneuburg\, Franz-Rumplerstr. 14\, Klosterneuburg\, Niederösterreich\, 3400\, Austria
CATEGORIES:Konfis & Jugend
END:VEVENT
BEGIN:VEVENT
DTSTART;TZID=Europe/Berlin:20260110T093000
DTEND;TZID=Europe/Berlin:20260110T133000
DTSTAMP:20260422T200350
CREATED:20251118T192212Z
LAST-MODIFIED:20260105T103603Z
UID:10000842-1768037400-1768051800@evang-klosterneuburg.at
SUMMARY:Konfi-Kurs
DESCRIPTION:
URL:https://evang-klosterneuburg.at/event/konfi-kurs-21/
LOCATION:Evangelische Pfarrgemeinde Klosterneuburg\, Franz-Rumplerstr. 14\, Klosterneuburg\, Niederösterreich\, 3400\, Austria
CATEGORIES:Konfis & Jugend
END:VEVENT
BEGIN:VEVENT
DTSTART;TZID=Europe/Berlin:20260111T093000
DTEND;TZID=Europe/Berlin:20260111T103000
DTSTAMP:20260422T200350
CREATED:20251116T203658Z
LAST-MODIFIED:20251116T205636Z
UID:10000808-1768123800-1768127400@evang-klosterneuburg.at
SUMMARY:Familiengottesdienst
DESCRIPTION:„Manchmal schäme ich mich“ mit Kerstin Fritz\, Abendmahl\, anschließend Gemeindekaffee
URL:https://evang-klosterneuburg.at/event/familiengottesdienst-manchmal-schaeme-ich-mich/
LOCATION:Evangelische Pfarrgemeinde Klosterneuburg\, Franz-Rumplerstr. 14\, Klosterneuburg\, Niederösterreich\, 3400\, Austria
CATEGORIES:Gottesdienst,Kinder und Familie
END:VEVENT
BEGIN:VEVENT
DTSTART;TZID=Europe/Berlin:20260112T190000
DTEND;TZID=Europe/Berlin:20260112T210000
DTSTAMP:20260422T200350
CREATED:20251118T175021Z
LAST-MODIFIED:20251118T175021Z
UID:10000823-1768244400-1768251600@evang-klosterneuburg.at
SUMMARY:Gesprächskreis
DESCRIPTION:Gespräche über Gott und die Welt
URL:https://evang-klosterneuburg.at/event/gespraechskreis-24/
LOCATION:Evangelische Pfarrgemeinde Klosterneuburg\, Franz-Rumplerstr. 14\, Klosterneuburg\, Niederösterreich\, 3400\, Austria
CATEGORIES:Gesprächs- und Bibelkreis
END:VEVENT
BEGIN:VEVENT
DTSTART;TZID=Europe/Berlin:20260114T160000
DTEND;TZID=Europe/Berlin:20260114T173000
DTSTAMP:20260422T200350
CREATED:20250824T182759Z
LAST-MODIFIED:20250824T182759Z
UID:10000754-1768406400-1768411800@evang-klosterneuburg.at
SUMMARY:Tauferinnerungskurs
DESCRIPTION:
URL:https://evang-klosterneuburg.at/event/tauferinnerungskurs-23/
LOCATION:Evangelische Pfarrgemeinde Klosterneuburg\, Franz-Rumplerstr. 14\, Klosterneuburg\, Niederösterreich\, 3400\, Austria
CATEGORIES:Kinder und Familie
END:VEVENT
BEGIN:VEVENT
DTSTART;TZID=Europe/Berlin:20260114T180000
DTEND;TZID=Europe/Berlin:20260114T200000
DTSTAMP:20260422T200350
CREATED:20251119T094636Z
LAST-MODIFIED:20251119T094636Z
UID:10000850-1768413600-1768420800@evang-klosterneuburg.at
SUMMARY:Chor-Probe "EvanGospel"
DESCRIPTION:
URL:https://evang-klosterneuburg.at/event/chor-probe-evangospel-81/
LOCATION:Evangelische Pfarrgemeinde Klosterneuburg\, Franz-Rumplerstr. 14\, Klosterneuburg\, Niederösterreich\, 3400\, Austria
CATEGORIES:Chor
END:VEVENT
BEGIN:VEVENT
DTSTART;TZID=Europe/Berlin:20260115T150000
DTEND;TZID=Europe/Berlin:20260115T170000
DTSTAMP:20260422T200350
CREATED:20251118T180825Z
LAST-MODIFIED:20251202T201137Z
UID:10000826-1768489200-1768496400@evang-klosterneuburg.at
SUMMARY:Senior*innenkreis
DESCRIPTION:Zeit zum Plaudern \nAn diesem neuen Termin laden wir zu einem gemütlichen Beisammensein ein. Im Mittelpunkt steht dabei der persönliche Austausch in eintspannter Atmosphäre. Bei einer Tasse Kaffe können Gespräche geführt\, neue Kontakte geknüpft oder alte Freundschaften gespflegt werden – ganz ohne Vortrag oder festes Programm.
URL:https://evang-klosterneuburg.at/event/seniorinnenkreis-2/
LOCATION:Evangelische Pfarrgemeinde Klosterneuburg\, Franz-Rumplerstr. 14\, Klosterneuburg\, Niederösterreich\, 3400\, Austria
CATEGORIES:Senioren
END:VEVENT
BEGIN:VEVENT
DTSTART;TZID=Europe/Berlin:20260115T180000
DTEND;TZID=Europe/Berlin:20260115T210000
DTSTAMP:20260422T200350
CREATED:20251118T185922Z
LAST-MODIFIED:20251118T185922Z
UID:10000834-1768500000-1768510800@evang-klosterneuburg.at
SUMMARY:You-Gain-Treff
DESCRIPTION:Offener Jugendtreff für alle ab 14 und unsere aktuellen Konfis.
URL:https://evang-klosterneuburg.at/event/you-gain-treff-18/
LOCATION:Evangelische Pfarrgemeinde Klosterneuburg\, Franz-Rumplerstr. 14\, Klosterneuburg\, Niederösterreich\, 3400\, Austria
CATEGORIES:Konfis & Jugend
END:VEVENT
BEGIN:VEVENT
DTSTART;TZID=Europe/Berlin:20260117T093000
DTEND;TZID=Europe/Berlin:20260117T110000
DTSTAMP:20260422T200350
CREATED:20251118T191435Z
LAST-MODIFIED:20251124T085231Z
UID:10000840-1768642200-1768647600@evang-klosterneuburg.at
SUMMARY:Elternfrühstück
DESCRIPTION:Wir wollen uns Zeit nehmen zum Ankommen\, Austauschen\, Lachen und vielleicht auch zum ehrlichen Erzählen\, wie es uns gerade so geht. Erfahrungen zu teilen und zu merken: Wir sind mit unseren Themen nicht allein. \nFür alle Kinder im Alter von 8 bis 13 Jahren findet parallel von 9:30 bis 12:30 unsere Jungschar statt!
URL:https://evang-klosterneuburg.at/event/elternfruehstueck/
LOCATION:Evangelische Pfarrgemeinde Klosterneuburg\, Franz-Rumplerstr. 14\, Klosterneuburg\, Niederösterreich\, 3400\, Austria
CATEGORIES:Gesprächs- und Bibelkreis,Kinder und Familie
END:VEVENT
BEGIN:VEVENT
DTSTART;TZID=Europe/Berlin:20260117T093000
DTEND;TZID=Europe/Berlin:20260117T123000
DTSTAMP:20260422T200350
CREATED:20251118T185409Z
LAST-MODIFIED:20251118T185409Z
UID:10000831-1768642200-1768653000@evang-klosterneuburg.at
SUMMARY:Jungschar
DESCRIPTION:Ein offenes Treffen für Kinder und Jugendliche von 8 bis 13 Jahren. \nIm Vordergrund stehen Spiel\, Spaß und Freundschaft!
URL:https://evang-klosterneuburg.at/event/jungschar-22/
LOCATION:Evangelische Pfarrgemeinde Klosterneuburg\, Franz-Rumplerstr. 14\, Klosterneuburg\, Niederösterreich\, 3400\, Austria
CATEGORIES:Kinder und Familie
END:VEVENT
BEGIN:VEVENT
DTSTART;TZID=Europe/Berlin:20260118T093000
DTEND;TZID=Europe/Berlin:20260118T103000
DTSTAMP:20260422T200350
CREATED:20251116T203944Z
LAST-MODIFIED:20251116T203944Z
UID:10000809-1768728600-1768732200@evang-klosterneuburg.at
SUMMARY:Gottesdienst
DESCRIPTION:mit Lars Müller-Marienburg\, parallel Kindergottesdienst
URL:https://evang-klosterneuburg.at/event/gottesdienst-110/
LOCATION:Evangelische Pfarrgemeinde Klosterneuburg\, Franz-Rumplerstr. 14\, Klosterneuburg\, Niederösterreich\, 3400\, Austria
CATEGORIES:Gottesdienst,Kinder und Familie
END:VEVENT
BEGIN:VEVENT
DTSTART;TZID=Europe/Berlin:20260118T104500
DTEND;TZID=Europe/Berlin:20260118T120000
DTSTAMP:20260422T200350
CREATED:20260115T112459Z
LAST-MODIFIED:20260115T112548Z
UID:10000868-1768733100-1768737600@evang-klosterneuburg.at
SUMMARY:Austauschtreffen Bereichsleitung
DESCRIPTION:
URL:https://evang-klosterneuburg.at/event/austauschtreffen-bereichsleitung-2/
END:VEVENT
BEGIN:VEVENT
DTSTART;TZID=Europe/Berlin:20260118T190000
DTEND;TZID=Europe/Berlin:20260118T200000
DTSTAMP:20260422T200350
CREATED:20251116T212500Z
LAST-MODIFIED:20251119T174258Z
UID:10000815-1768762800-1768766400@evang-klosterneuburg.at
SUMMARY:Abendgebet für die Einheit der Christen
DESCRIPTION:
URL:https://evang-klosterneuburg.at/event/abendgebet-fuer-die-einheit-der-christen/
LOCATION:Evangelische Pfarrgemeinde Klosterneuburg\, Franz-Rumplerstr. 14\, Klosterneuburg\, Niederösterreich\, 3400\, Austria
CATEGORIES:Ökumene
END:VEVENT
BEGIN:VEVENT
DTSTART;TZID=Europe/Berlin:20260120T180000
DTEND;TZID=Europe/Berlin:20260120T190000
DTSTAMP:20260422T200350
CREATED:20260105T103753Z
LAST-MODIFIED:20260105T103753Z
UID:10000863-1768932000-1768935600@evang-klosterneuburg.at
SUMMARY:Ökumenischer Gottesdienst (in St. Gertrud)
DESCRIPTION:
URL:https://evang-klosterneuburg.at/event/oekumenischer-gottesdienst-in-st-gertrud/
LOCATION:Pius-Parsch-Kirche St. Gertrud\, Leopoldstraße 31\, Klosterneuburg\, 3400\, Austria
CATEGORIES:Gottesdienst,Ökumene
END:VEVENT
BEGIN:VEVENT
DTSTART;TZID=Europe/Berlin:20260120T180000
DTEND;TZID=Europe/Berlin:20260120T200000
DTSTAMP:20260422T200350
CREATED:20251119T092503Z
LAST-MODIFIED:20251119T092503Z
UID:10000847-1768932000-1768939200@evang-klosterneuburg.at
SUMMARY:Auf dem spirituellen  Weg
DESCRIPTION:Wir verstehen uns als Suchende\, die hoffen und auch Zweifel aussprechen.\nOffenheit anderen Einstellungen gegenüber ist uns wichtig.
URL:https://evang-klosterneuburg.at/event/auf-dem-spirituellen-weg-3/
LOCATION:Evangelische Pfarrgemeinde Klosterneuburg\, Franz-Rumplerstr. 14\, Klosterneuburg\, Niederösterreich\, 3400\, Austria
CATEGORIES:Gesprächs- und Bibelkreis
END:VEVENT
BEGIN:VEVENT
DTSTART;TZID=Europe/Berlin:20260121T090000
DTEND;TZID=Europe/Berlin:20260121T110000
DTSTAMP:20260422T200350
CREATED:20251118T174249Z
LAST-MODIFIED:20251118T174249Z
UID:10000820-1768986000-1768993200@evang-klosterneuburg.at
SUMMARY:Bibelfrühstück
DESCRIPTION:
URL:https://evang-klosterneuburg.at/event/bibelfruehstueck-23/
LOCATION:Evangelische Pfarrgemeinde Klosterneuburg\, Franz-Rumplerstr. 14\, Klosterneuburg\, Niederösterreich\, 3400\, Austria
CATEGORIES:Gesprächs- und Bibelkreis
END:VEVENT
BEGIN:VEVENT
DTSTART;TZID=Europe/Berlin:20260121T150000
DTEND;TZID=Europe/Berlin:20260121T170000
DTSTAMP:20260422T200350
CREATED:20251118T190707Z
LAST-MODIFIED:20251118T190707Z
UID:10000838-1769007600-1769014800@evang-klosterneuburg.at
SUMMARY:Café der Generationen
DESCRIPTION:Alle Generationen können das Miteinander in Kaffeehaus-Atmosphäre genießen. Kinder können spielen\, während Eltern\, Großeltern und andere Begleitpersonen plaudern und Kaffee und Kuchen genießen. Willkommen sind alle! Spenden werden erbeten.
URL:https://evang-klosterneuburg.at/event/cafe-der-generationen-26/
LOCATION:Evangelische Pfarrgemeinde Klosterneuburg\, Franz-Rumplerstr. 14\, Klosterneuburg\, Niederösterreich\, 3400\, Austria
CATEGORIES:Kinder und Familie,Senioren
END:VEVENT
BEGIN:VEVENT
DTSTART;TZID=Europe/Berlin:20260121T180000
DTEND;TZID=Europe/Berlin:20260121T200000
DTSTAMP:20260422T200350
CREATED:20251119T094720Z
LAST-MODIFIED:20251119T094720Z
UID:10000851-1769018400-1769025600@evang-klosterneuburg.at
SUMMARY:Chor-Probe "EvanGospel"
DESCRIPTION:
URL:https://evang-klosterneuburg.at/event/chor-probe-evangospel-82/
LOCATION:Evangelische Pfarrgemeinde Klosterneuburg\, Franz-Rumplerstr. 14\, Klosterneuburg\, Niederösterreich\, 3400\, Austria
CATEGORIES:Chor
END:VEVENT
BEGIN:VEVENT
DTSTART;TZID=Europe/Berlin:20260123T000000
DTEND;TZID=Europe/Berlin:20260125T000000
DTSTAMP:20260422T200350
CREATED:20251118T192743Z
LAST-MODIFIED:20251118T192743Z
UID:10000844-1769126400-1769299200@evang-klosterneuburg.at
SUMMARY:Konfi-Freizeit
DESCRIPTION:
URL:https://evang-klosterneuburg.at/event/konfi-freizeit-3/
LOCATION:Evangelische Pfarrgemeinde Klosterneuburg\, Franz-Rumplerstr. 14\, Klosterneuburg\, Niederösterreich\, 3400\, Austria
CATEGORIES:Konfis & Jugend
END:VEVENT
BEGIN:VEVENT
DTSTART;TZID=Europe/Berlin:20260125T093000
DTEND;TZID=Europe/Berlin:20260125T103000
DTSTAMP:20260422T200350
CREATED:20251116T204126Z
LAST-MODIFIED:20251116T204126Z
UID:10000810-1769333400-1769337000@evang-klosterneuburg.at
SUMMARY:Gottesdienst
DESCRIPTION:mit Markus Fellinger\, Abendmahl\, parallel Kindergottesdienst
URL:https://evang-klosterneuburg.at/event/gottesdienst-111/
LOCATION:Evangelische Pfarrgemeinde Klosterneuburg\, Franz-Rumplerstr. 14\, Klosterneuburg\, Niederösterreich\, 3400\, Austria
CATEGORIES:Gottesdienst,Kinder und Familie
END:VEVENT
BEGIN:VEVENT
DTSTART;TZID=Europe/Berlin:20260128T150000
DTEND;TZID=Europe/Berlin:20260128T163000
DTSTAMP:20260422T200350
CREATED:20251118T173146Z
LAST-MODIFIED:20251118T173146Z
UID:10000816-1769612400-1769617800@evang-klosterneuburg.at
SUMMARY:Zwergerl-Treff
DESCRIPTION:für alle von 0 bis 7 Jahren mit ihren Begleitpersonen.
URL:https://evang-klosterneuburg.at/event/zwergerl-treff-33/
LOCATION:Evangelische Pfarrgemeinde Klosterneuburg\, Franz-Rumplerstr. 14\, Klosterneuburg\, Niederösterreich\, 3400\, Austria
CATEGORIES:Kinder und Familie
END:VEVENT
BEGIN:VEVENT
DTSTART;TZID=Europe/Berlin:20260128T150000
DTEND;TZID=Europe/Berlin:20260128T170000
DTSTAMP:20260422T200350
CREATED:20260115T112332Z
LAST-MODIFIED:20260115T112332Z
UID:10000867-1769612400-1769619600@evang-klosterneuburg.at
SUMMARY:Interreligiöser Dialog - Besuch des Baha'i Zentrums
DESCRIPTION:Gemeinsamer Besuch des Baha’i Zentrums in der Marolingergasse 2\, 1140 Wien. \nProgramm:\nFührung durch das Baha’i Zentrum\, Einführungsvortrag zur Beha’i Religion bei Kaffee und Tee\, Diskussion. \nInformationen und Anmeldung bei Heide Winterleitner: 0664/50 14 061
URL:https://evang-klosterneuburg.at/event/interreligioeser-dialog-besuch-des-bahai-zentrums/
CATEGORIES:Interreligiöser Dialog
END:VEVENT
BEGIN:VEVENT
DTSTART;TZID=Europe/Berlin:20260128T180000
DTEND;TZID=Europe/Berlin:20260128T200000
DTSTAMP:20260422T200350
CREATED:20251119T094758Z
LAST-MODIFIED:20251119T094758Z
UID:10000852-1769623200-1769630400@evang-klosterneuburg.at
SUMMARY:Chor-Probe "EvanGospel"
DESCRIPTION:
URL:https://evang-klosterneuburg.at/event/chor-probe-evangospel-83/
LOCATION:Evangelische Pfarrgemeinde Klosterneuburg\, Franz-Rumplerstr. 14\, Klosterneuburg\, Niederösterreich\, 3400\, Austria
CATEGORIES:Chor
END:VEVENT
BEGIN:VEVENT
DTSTART;TZID=Europe/Berlin:20260129T150000
DTEND;TZID=Europe/Berlin:20260129T170000
DTSTAMP:20260422T200350
CREATED:20251118T180916Z
LAST-MODIFIED:20251118T180916Z
UID:10000827-1769698800-1769706000@evang-klosterneuburg.at
SUMMARY:Senior*innenkreis
DESCRIPTION:mit Geburtstagsfeier und Jause und Vortrag
URL:https://evang-klosterneuburg.at/event/seniorinnenkreis-3/
LOCATION:Evangelische Pfarrgemeinde Klosterneuburg\, Franz-Rumplerstr. 14\, Klosterneuburg\, Niederösterreich\, 3400\, Austria
CATEGORIES:Senioren
END:VEVENT
BEGIN:VEVENT
DTSTART;TZID=Europe/Berlin:20260129T180000
DTEND;TZID=Europe/Berlin:20260129T210000
DTSTAMP:20260422T200350
CREATED:20251118T190051Z
LAST-MODIFIED:20251118T190051Z
UID:10000835-1769709600-1769720400@evang-klosterneuburg.at
SUMMARY:You-Gain-Treff
DESCRIPTION:Offener Jugendtreff für alle ab 14 und unsere aktuellen Konfis.
URL:https://evang-klosterneuburg.at/event/you-gain-treff-19/
LOCATION:Evangelische Pfarrgemeinde Klosterneuburg\, Franz-Rumplerstr. 14\, Klosterneuburg\, Niederösterreich\, 3400\, Austria
CATEGORIES:Konfis & Jugend
END:VEVENT
END:VCALENDAR