BEGIN:VCALENDAR
VERSION:2.0
PRODID:-//evang-klosterneuburg.at - ECPv6.15.18//NONSGML v1.0//EN
CALSCALE:GREGORIAN
METHOD:PUBLISH
X-ORIGINAL-URL:https://evang-klosterneuburg.at
X-WR-CALDESC:Veranstaltungen für evang-klosterneuburg.at
REFRESH-INTERVAL;VALUE=DURATION:PT1H
X-Robots-Tag:noindex
X-PUBLISHED-TTL:PT1H
BEGIN:VTIMEZONE
TZID:Europe/Berlin
BEGIN:DAYLIGHT
TZOFFSETFROM:+0100
TZOFFSETTO:+0200
TZNAME:CEST
DTSTART:20250330T010000
END:DAYLIGHT
BEGIN:STANDARD
TZOFFSETFROM:+0200
TZOFFSETTO:+0100
TZNAME:CET
DTSTART:20251026T010000
END:STANDARD
BEGIN:DAYLIGHT
TZOFFSETFROM:+0100
TZOFFSETTO:+0200
TZNAME:CEST
DTSTART:20260329T010000
END:DAYLIGHT
BEGIN:STANDARD
TZOFFSETFROM:+0200
TZOFFSETTO:+0100
TZNAME:CET
DTSTART:20261025T010000
END:STANDARD
BEGIN:DAYLIGHT
TZOFFSETFROM:+0100
TZOFFSETTO:+0200
TZNAME:CEST
DTSTART:20270328T010000
END:DAYLIGHT
BEGIN:STANDARD
TZOFFSETFROM:+0200
TZOFFSETTO:+0100
TZNAME:CET
DTSTART:20271031T010000
END:STANDARD
END:VTIMEZONE
BEGIN:VEVENT
DTSTART;TZID=Europe/Berlin:20260604T180000
DTEND;TZID=Europe/Berlin:20260604T210000
DTSTAMP:20260422T183615
CREATED:20260215T185701Z
LAST-MODIFIED:20260215T185701Z
UID:10000928-1780596000-1780606800@evang-klosterneuburg.at
SUMMARY:You-Gain-Treff
DESCRIPTION:Offener Jugendtreff für alle ab 14 und unsere aktuellen Konfis.
URL:https://evang-klosterneuburg.at/event/you-gain-treff-28/
LOCATION:Evangelische Pfarrgemeinde Klosterneuburg\, Franz-Rumplerstr. 14\, Klosterneuburg\, Niederösterreich\, 3400\, Austria
CATEGORIES:Konfis & Jugend
END:VEVENT
BEGIN:VEVENT
DTSTART;TZID=Europe/Berlin:20260608T190000
DTEND;TZID=Europe/Berlin:20260608T210000
DTSTAMP:20260422T183615
CREATED:20260214T201310Z
LAST-MODIFIED:20260214T201310Z
UID:10000912-1780945200-1780952400@evang-klosterneuburg.at
SUMMARY:Gesprächskreis
DESCRIPTION:Gespräche über Gott und die Welt
URL:https://evang-klosterneuburg.at/event/gespraechskreis-29/
LOCATION:Evangelische Pfarrgemeinde Klosterneuburg\, Franz-Rumplerstr. 14\, Klosterneuburg\, Niederösterreich\, 3400\, Austria
CATEGORIES:Gesprächs- und Bibelkreis
END:VEVENT
BEGIN:VEVENT
DTSTART;TZID=Europe/Berlin:20260610T150000
DTEND;TZID=Europe/Berlin:20260610T163000
DTSTAMP:20260422T183615
CREATED:20260214T200047Z
LAST-MODIFIED:20260214T200047Z
UID:10000901-1781103600-1781109000@evang-klosterneuburg.at
SUMMARY:Zwergerl-Treff
DESCRIPTION:für alle von 0 bis 7 Jahren mit ihren Begleitpersonen.
URL:https://evang-klosterneuburg.at/event/zwergerl-treff-37/
LOCATION:Evangelische Pfarrgemeinde Klosterneuburg\, Franz-Rumplerstr. 14\, Klosterneuburg\, Niederösterreich\, 3400\, Austria
CATEGORIES:Kinder und Familie
END:VEVENT
BEGIN:VEVENT
DTSTART;TZID=Europe/Berlin:20260611T150000
DTEND;TZID=Europe/Berlin:20260611T170000
DTSTAMP:20260422T183615
CREATED:20260215T190442Z
LAST-MODIFIED:20260215T190442Z
UID:10000933-1781190000-1781197200@evang-klosterneuburg.at
SUMMARY:Senior*innenkreis
DESCRIPTION:Plaudern
URL:https://evang-klosterneuburg.at/event/seniorinnenkreis-9/
LOCATION:Evangelische Pfarrgemeinde Klosterneuburg\, Franz-Rumplerstr. 14\, Klosterneuburg\, Niederösterreich\, 3400\, Austria
CATEGORIES:Senioren
END:VEVENT
BEGIN:VEVENT
DTSTART;TZID=Europe/Berlin:20260613T093000
DTEND;TZID=Europe/Berlin:20260613T123000
DTSTAMP:20260422T183615
CREATED:20260214T200455Z
LAST-MODIFIED:20260326T123154Z
UID:10000905-1781343000-1781353800@evang-klosterneuburg.at
SUMMARY:Elternfrühstück
DESCRIPTION:Wir wollen uns Zeit nehmen zum Ankommen\, Austauschen\, Lachen und vielleicht auch zum ehrlichen Erzählen\, wie es uns gerade so geht. Erfahrungen zu teilen und zu merken: Wir sind mit unseren Themen nicht allein. \nFür alle Kinder im Alter von 8 bis 13 Jahren findet parallel von 9:30 bis 12:30 unsere Jungschar statt!
URL:https://evang-klosterneuburg.at/event/elternfruehstueck-6/
LOCATION:Evangelische Pfarrgemeinde Klosterneuburg\, Franz-Rumplerstr. 14\, Klosterneuburg\, Niederösterreich\, 3400\, Austria
CATEGORIES:Gesprächs- und Bibelkreis,Kinder und Familie
END:VEVENT
BEGIN:VEVENT
DTSTART;TZID=Europe/Berlin:20260613T093000
DTEND;TZID=Europe/Berlin:20260613T123000
DTSTAMP:20260422T183615
CREATED:20260215T184707Z
LAST-MODIFIED:20260215T184707Z
UID:10000917-1781343000-1781353800@evang-klosterneuburg.at
SUMMARY:Jungschar
DESCRIPTION:Ein offenes Treffen für Kinder und Jugendliche von 8 bis 13 Jahren. \nIm Vordergrund stehen Spiel\, Spaß und Freundschaft!
URL:https://evang-klosterneuburg.at/event/jungschar-28/
LOCATION:Evangelische Pfarrgemeinde Klosterneuburg\, Franz-Rumplerstr. 14\, Klosterneuburg\, Niederösterreich\, 3400\, Austria
CATEGORIES:Kinder und Familie
END:VEVENT
BEGIN:VEVENT
DTSTART;TZID=Europe/Berlin:20260617T090000
DTEND;TZID=Europe/Berlin:20260617T110000
DTSTAMP:20260422T183616
CREATED:20260215T185139Z
LAST-MODIFIED:20260215T185139Z
UID:10000921-1781686800-1781694000@evang-klosterneuburg.at
SUMMARY:Bibelfrühstück
DESCRIPTION:
URL:https://evang-klosterneuburg.at/event/bibelfruehstueck-28/
LOCATION:Evangelische Pfarrgemeinde Klosterneuburg\, Franz-Rumplerstr. 14\, Klosterneuburg\, Niederösterreich\, 3400\, Austria
CATEGORIES:Gesprächs- und Bibelkreis
END:VEVENT
BEGIN:VEVENT
DTSTART;TZID=Europe/Berlin:20260618T093000
DTEND;TZID=Europe/Berlin:20260618T133000
DTSTAMP:20260422T183616
CREATED:20260215T192328Z
LAST-MODIFIED:20260215T192328Z
UID:10000943-1781775000-1781789400@evang-klosterneuburg.at
SUMMARY:Konfi-Kurs
DESCRIPTION:Abschlussfeier
URL:https://evang-klosterneuburg.at/event/konfi-kurs-28/
LOCATION:Evangelische Pfarrgemeinde Klosterneuburg\, Franz-Rumplerstr. 14\, Klosterneuburg\, Niederösterreich\, 3400\, Austria
CATEGORIES:Konfis & Jugend
END:VEVENT
BEGIN:VEVENT
DTSTART;TZID=Europe/Berlin:20260618T180000
DTEND;TZID=Europe/Berlin:20260618T210000
DTSTAMP:20260422T183616
CREATED:20260215T185737Z
LAST-MODIFIED:20260215T185737Z
UID:10000929-1781805600-1781816400@evang-klosterneuburg.at
SUMMARY:You-Gain-Treff
DESCRIPTION:Offener Jugendtreff für alle ab 14 und unsere aktuellen Konfis.
URL:https://evang-klosterneuburg.at/event/you-gain-treff-29/
LOCATION:Evangelische Pfarrgemeinde Klosterneuburg\, Franz-Rumplerstr. 14\, Klosterneuburg\, Niederösterreich\, 3400\, Austria
CATEGORIES:Konfis & Jugend
END:VEVENT
BEGIN:VEVENT
DTSTART;TZID=Europe/Berlin:20260625T150000
DTEND;TZID=Europe/Berlin:20260625T170000
DTSTAMP:20260422T183616
CREATED:20260215T190830Z
LAST-MODIFIED:20260215T190830Z
UID:10000937-1782399600-1782406800@evang-klosterneuburg.at
SUMMARY:Senior*innenkreis
DESCRIPTION:mit Vortrag
URL:https://evang-klosterneuburg.at/event/seniorinnenkreis-13/
LOCATION:Evangelische Pfarrgemeinde Klosterneuburg\, Franz-Rumplerstr. 14\, Klosterneuburg\, Niederösterreich\, 3400\, Austria
CATEGORIES:Senioren
END:VEVENT
BEGIN:VEVENT
DTSTART;TZID=Europe/Berlin:20260625T183000
DTEND;TZID=Europe/Berlin:20260625T200000
DTSTAMP:20260422T183616
CREATED:20260215T193836Z
LAST-MODIFIED:20260319T085203Z
UID:10000947-1782412200-1782417600@evang-klosterneuburg.at
SUMMARY:Offene Schreibwerkstatt
DESCRIPTION:mit Hubertus September \nEingeladen sind alle Menschen zwischen 14 und 114\, die gerne schreiben oder schon länger den Wunsch haben\, eigene Texte zu verfassen. Vorkenntnisse sind keine nötig\, lediglich Neugier und Lust aufs Schreiben allgemein.
URL:https://evang-klosterneuburg.at/event/offene-schreibwerkstatt-4/
LOCATION:Evangelische Pfarrgemeinde Klosterneuburg\, Franz-Rumplerstr. 14\, Klosterneuburg\, Niederösterreich\, 3400\, Austria
END:VEVENT
END:VCALENDAR