BEGIN:VCALENDAR
VERSION:2.0
PRODID:-//evang-klosterneuburg.at - ECPv6.15.18//NONSGML v1.0//EN
CALSCALE:GREGORIAN
METHOD:PUBLISH
X-WR-CALNAME:evang-klosterneuburg.at
X-ORIGINAL-URL:https://evang-klosterneuburg.at
X-WR-CALDESC:Veranstaltungen für evang-klosterneuburg.at
REFRESH-INTERVAL;VALUE=DURATION:PT1H
X-Robots-Tag:noindex
X-PUBLISHED-TTL:PT1H
BEGIN:VTIMEZONE
TZID:Europe/Berlin
BEGIN:DAYLIGHT
TZOFFSETFROM:+0100
TZOFFSETTO:+0200
TZNAME:CEST
DTSTART:20250330T010000
END:DAYLIGHT
BEGIN:STANDARD
TZOFFSETFROM:+0200
TZOFFSETTO:+0100
TZNAME:CET
DTSTART:20251026T010000
END:STANDARD
BEGIN:DAYLIGHT
TZOFFSETFROM:+0100
TZOFFSETTO:+0200
TZNAME:CEST
DTSTART:20260329T010000
END:DAYLIGHT
BEGIN:STANDARD
TZOFFSETFROM:+0200
TZOFFSETTO:+0100
TZNAME:CET
DTSTART:20261025T010000
END:STANDARD
BEGIN:DAYLIGHT
TZOFFSETFROM:+0100
TZOFFSETTO:+0200
TZNAME:CEST
DTSTART:20270328T010000
END:DAYLIGHT
BEGIN:STANDARD
TZOFFSETFROM:+0200
TZOFFSETTO:+0100
TZNAME:CET
DTSTART:20271031T010000
END:STANDARD
END:VTIMEZONE
BEGIN:VEVENT
DTSTART;TZID=Europe/Berlin:20260422T150000
DTEND;TZID=Europe/Berlin:20260422T170000
DTSTAMP:20260422T135410
CREATED:20260214T200756Z
LAST-MODIFIED:20260214T200756Z
UID:10000907-1776870000-1776877200@evang-klosterneuburg.at
SUMMARY:Café der Generationen
DESCRIPTION:Alle Generationen können das Miteinander in Kaffeehaus-Atmosphäre genießen. Kinder können spielen\, während Eltern\, Großeltern und andere Begleitpersonen plaudern und Kaffee und Kuchen genießen. Willkommen sind alle! Spenden werden erbeten.
URL:https://evang-klosterneuburg.at/event/cafe-der-generationen-29/
LOCATION:Evangelische Pfarrgemeinde Klosterneuburg\, Franz-Rumplerstr. 14\, Klosterneuburg\, Niederösterreich\, 3400\, Austria
CATEGORIES:Kinder und Familie,Senioren
END:VEVENT
BEGIN:VEVENT
DTSTART;TZID=Europe/Berlin:20260422T163000
DTEND;TZID=Europe/Berlin:20260422T173000
DTSTAMP:20260422T135410
CREATED:20260326T123556Z
LAST-MODIFIED:20260326T123556Z
UID:10000969-1776875400-1776879000@evang-klosterneuburg.at
SUMMARY:AGITE-Besuchsdienst-Treffen
DESCRIPTION:Alle\, die mitmachen wollen\, sind herzlich willkommen.
URL:https://evang-klosterneuburg.at/event/agite-besuchsdienst-treffen-2/
LOCATION:Evangelische Pfarrgemeinde Klosterneuburg\, Franz-Rumplerstr. 14\, Klosterneuburg\, Niederösterreich\, 3400\, Austria
END:VEVENT
BEGIN:VEVENT
DTSTART;TZID=Europe/Berlin:20260422T180000
DTEND;TZID=Europe/Berlin:20260422T200000
DTSTAMP:20260422T135410
CREATED:20260326T123632Z
LAST-MODIFIED:20260326T123632Z
UID:10000970-1776880800-1776888000@evang-klosterneuburg.at
SUMMARY:Chor-Probe "EvanGospel"
DESCRIPTION:
URL:https://evang-klosterneuburg.at/event/chor-probe-evangospel-90/
LOCATION:Evangelische Pfarrgemeinde Klosterneuburg\, Franz-Rumplerstr. 14\, Klosterneuburg\, Niederösterreich\, 3400\, Austria
CATEGORIES:Chor
END:VEVENT
BEGIN:VEVENT
DTSTART;TZID=Europe/Berlin:20260423T180000
DTEND;TZID=Europe/Berlin:20260423T210000
DTSTAMP:20260422T135411
CREATED:20260215T185529Z
LAST-MODIFIED:20260215T185529Z
UID:10000925-1776967200-1776978000@evang-klosterneuburg.at
SUMMARY:You-Gain-Treff
DESCRIPTION:Offener Jugendtreff für alle ab 14 und unsere aktuellen Konfis.
URL:https://evang-klosterneuburg.at/event/you-gain-treff-25/
LOCATION:Evangelische Pfarrgemeinde Klosterneuburg\, Franz-Rumplerstr. 14\, Klosterneuburg\, Niederösterreich\, 3400\, Austria
CATEGORIES:Konfis & Jugend
END:VEVENT
BEGIN:VEVENT
DTSTART;TZID=Europe/Berlin:20260423T183000
DTEND;TZID=Europe/Berlin:20260423T200000
DTSTAMP:20260422T135411
CREATED:20260215T193728Z
LAST-MODIFIED:20260215T193728Z
UID:10000945-1776969000-1776974400@evang-klosterneuburg.at
SUMMARY:Offene Schreibwerkstatt
DESCRIPTION:mit Hubertus September \nEingeladen sind alle Menschen zwischen 14 und 114\, die gerne schreiben oder schon länger den Wunsch haben\, eigene Texte zu verfassen. Vorkenntnisse sind keine\nnötig\, lediglich Neugier und Lust aufs Schreiben allgemein.
URL:https://evang-klosterneuburg.at/event/offene-schreibwerkstatt-2/
LOCATION:Evangelische Pfarrgemeinde Klosterneuburg\, Franz-Rumplerstr. 14\, Klosterneuburg\, Niederösterreich\, 3400\, Austria
END:VEVENT
BEGIN:VEVENT
DTSTART;VALUE=DATE:20260425
DTEND;VALUE=DATE:20260426
DTSTAMP:20260422T135411
CREATED:20260215T192041Z
LAST-MODIFIED:20260326T123713Z
UID:10000941-1777075200-1777161599@evang-klosterneuburg.at
SUMMARY:Konfi-Tag
DESCRIPTION:Konfitag in St. Pölten
URL:https://evang-klosterneuburg.at/event/konfi-kurs-26/
LOCATION:Evangelische Pfarrgemeinde Klosterneuburg\, Franz-Rumplerstr. 14\, Klosterneuburg\, Niederösterreich\, 3400\, Austria
CATEGORIES:Konfis & Jugend
END:VEVENT
BEGIN:VEVENT
DTSTART;TZID=Europe/Berlin:20260426T093000
DTEND;TZID=Europe/Berlin:20260426T103000
DTSTAMP:20260422T135411
CREATED:20260214T161424Z
LAST-MODIFIED:20260420T071352Z
UID:10000886-1777195800-1777199400@evang-klosterneuburg.at
SUMMARY:Gottesdienst
DESCRIPTION:mit Kerstin Fritz\,  parallel Kindergottesdienst\, Organist Christian Bauer
URL:https://evang-klosterneuburg.at/event/gottesdienst-120/
LOCATION:Evangelische Pfarrgemeinde Klosterneuburg\, Franz-Rumplerstr. 14\, Klosterneuburg\, Niederösterreich\, 3400\, Austria
CATEGORIES:Gottesdienst,Kinder und Familie
END:VEVENT
BEGIN:VEVENT
DTSTART;TZID=Europe/Berlin:20260429T150000
DTEND;TZID=Europe/Berlin:20260429T163000
DTSTAMP:20260422T135411
CREATED:20260214T195830Z
LAST-MODIFIED:20260214T195830Z
UID:10000899-1777474800-1777480200@evang-klosterneuburg.at
SUMMARY:Zwergerl-Treff
DESCRIPTION:für alle von 0 bis 7 Jahren mit ihren Begleitpersonen.
URL:https://evang-klosterneuburg.at/event/zwergerl-treff-35/
LOCATION:Evangelische Pfarrgemeinde Klosterneuburg\, Franz-Rumplerstr. 14\, Klosterneuburg\, Niederösterreich\, 3400\, Austria
CATEGORIES:Kinder und Familie
END:VEVENT
BEGIN:VEVENT
DTSTART;TZID=Europe/Berlin:20260429T180000
DTEND;TZID=Europe/Berlin:20260429T200000
DTSTAMP:20260422T135411
CREATED:20260326T123808Z
LAST-MODIFIED:20260326T123808Z
UID:10000971-1777485600-1777492800@evang-klosterneuburg.at
SUMMARY:Chor-Probe "EvanGospel"
DESCRIPTION:
URL:https://evang-klosterneuburg.at/event/chor-probe-evangospel-91/
LOCATION:Evangelische Pfarrgemeinde Klosterneuburg\, Franz-Rumplerstr. 14\, Klosterneuburg\, Niederösterreich\, 3400\, Austria
CATEGORIES:Chor
END:VEVENT
BEGIN:VEVENT
DTSTART;TZID=Europe/Berlin:20260430T150000
DTEND;TZID=Europe/Berlin:20260430T170000
DTSTAMP:20260422T135411
CREATED:20260215T190706Z
LAST-MODIFIED:20260402T082804Z
UID:10000935-1777561200-1777568400@evang-klosterneuburg.at
SUMMARY:Senior*innenkreis
DESCRIPTION:Gemeinsame Geburtstagsfeier mit Jause und Vortrag von Dieter Stroh: Große Polenrundreise
URL:https://evang-klosterneuburg.at/event/seniorinnenkreis-11/
LOCATION:Evangelische Pfarrgemeinde Klosterneuburg\, Franz-Rumplerstr. 14\, Klosterneuburg\, Niederösterreich\, 3400\, Austria
CATEGORIES:Senioren
END:VEVENT
END:VCALENDAR