BEGIN:VCALENDAR
VERSION:2.0
PRODID:-//evang-klosterneuburg.at - ECPv6.15.18//NONSGML v1.0//EN
CALSCALE:GREGORIAN
METHOD:PUBLISH
X-WR-CALNAME:evang-klosterneuburg.at
X-ORIGINAL-URL:https://evang-klosterneuburg.at
X-WR-CALDESC:Veranstaltungen für evang-klosterneuburg.at
REFRESH-INTERVAL;VALUE=DURATION:PT1H
X-Robots-Tag:noindex
X-PUBLISHED-TTL:PT1H
BEGIN:VTIMEZONE
TZID:Europe/Berlin
BEGIN:DAYLIGHT
TZOFFSETFROM:+0100
TZOFFSETTO:+0200
TZNAME:CEST
DTSTART:20250330T010000
END:DAYLIGHT
BEGIN:STANDARD
TZOFFSETFROM:+0200
TZOFFSETTO:+0100
TZNAME:CET
DTSTART:20251026T010000
END:STANDARD
BEGIN:DAYLIGHT
TZOFFSETFROM:+0100
TZOFFSETTO:+0200
TZNAME:CEST
DTSTART:20260329T010000
END:DAYLIGHT
BEGIN:STANDARD
TZOFFSETFROM:+0200
TZOFFSETTO:+0100
TZNAME:CET
DTSTART:20261025T010000
END:STANDARD
BEGIN:DAYLIGHT
TZOFFSETFROM:+0100
TZOFFSETTO:+0200
TZNAME:CEST
DTSTART:20270328T010000
END:DAYLIGHT
BEGIN:STANDARD
TZOFFSETFROM:+0200
TZOFFSETTO:+0100
TZNAME:CET
DTSTART:20271031T010000
END:STANDARD
END:VTIMEZONE
BEGIN:VEVENT
DTSTART;TZID=Europe/Berlin:20260329T093000
DTEND;TZID=Europe/Berlin:20260329T103000
DTSTAMP:20260422T191113
CREATED:20260214T155625Z
LAST-MODIFIED:20260225T201026Z
UID:10000880-1774776600-1774780200@evang-klosterneuburg.at
SUMMARY:Theatergottesdienst zum Palmsonntag
DESCRIPTION:mit Kerstin Fritz\, „Die Frau des Pilatus“\, Organist Christian Bauer\, anschließend Gemeindekaffee \n„Während Pilatus auf dem Richterstuhl saß\, sandte seine Frau zu ihm und ließ ihm sagen: Habe du nichts zu schaffen mit jenem Gerechten. Ich habe heute seinetwegen im Traum viel gelitten.“ So steht es bei Matthäus 27\, 15-20. \nMit einer thematischen Einführung zum Beginn des Gottesdienstes und einem moderierten Nachgespräch im Anschluss. \nDie apokryphe Überlieferung gibt der im Evangelium namenlos gebliebenen Frau den\nNamen Claudia Procula. In einigen Quellen ist sie die Tochter des Kaisers Tiberius. Früh kam die Überzeugung auf\, sie sei später Christin geworden.\nWer war diese Frau? Was hat sie da geträumt? Und was hatten die beiden eigentlich für ein Verhältnis? Was für ein Mensch steht hinter diesem römischen Statthalter Pontius Pilatus\, dessen Name für alle Zeit mit Jesu Tod verbunden ist? Wie ist es ihm danach ergangen? \nFriederike v. Krosigk – Schauspiel\, Gesang\nThomas Zieler – Schauspiel\nAnnegret Bauerle – Flöte & Gesang\nSybille v. Both – Gesang & Orgel / Klavier\n& dem Luther-Chor NÖ \n  \n  \n 
URL:https://evang-klosterneuburg.at/event/theatergottesdienst-zum-palmsonntag/
LOCATION:Evangelische Pfarrgemeinde Klosterneuburg\, Franz-Rumplerstr. 14\, Klosterneuburg\, Niederösterreich\, 3400\, Austria
CATEGORIES:Gottesdienst
END:VEVENT
BEGIN:VEVENT
DTSTART;TZID=Europe/Berlin:20260327T080000
DTEND;TZID=Europe/Berlin:20260327T090000
DTSTAMP:20260422T191113
CREATED:20260225T200344Z
LAST-MODIFIED:20260225T200344Z
UID:10000959-1774598400-1774602000@evang-klosterneuburg.at
SUMMARY:Schulgottesdienst zu Ostern
DESCRIPTION:mit Kerstin Fritz
URL:https://evang-klosterneuburg.at/event/schulgottesdienst-zu-ostern/
CATEGORIES:Gottesdienst,Konfis & Jugend
END:VEVENT
BEGIN:VEVENT
DTSTART;TZID=Europe/Berlin:20260326T180000
DTEND;TZID=Europe/Berlin:20260326T210000
DTSTAMP:20260422T191113
CREATED:20260215T185357Z
LAST-MODIFIED:20260215T185357Z
UID:10000923-1774548000-1774558800@evang-klosterneuburg.at
SUMMARY:You-Gain-Treff
DESCRIPTION:Offener Jugendtreff für alle ab 14 und unsere aktuellen Konfis.
URL:https://evang-klosterneuburg.at/event/you-gain-treff-23/
LOCATION:Evangelische Pfarrgemeinde Klosterneuburg\, Franz-Rumplerstr. 14\, Klosterneuburg\, Niederösterreich\, 3400\, Austria
CATEGORIES:Konfis & Jugend
END:VEVENT
BEGIN:VEVENT
DTSTART;TZID=Europe/Berlin:20260326T150000
DTEND;TZID=Europe/Berlin:20260326T170000
DTSTAMP:20260422T191113
CREATED:20260215T190616Z
LAST-MODIFIED:20260225T200055Z
UID:10000934-1774537200-1774544400@evang-klosterneuburg.at
SUMMARY:Senior*innenkreis
DESCRIPTION:Geburtstagsfeier und Jause mit Vortrag von Doris Wimmer: „La Réunion – Insel im Indischen Ozean“
URL:https://evang-klosterneuburg.at/event/seniorinnenkreis-10/
LOCATION:Evangelische Pfarrgemeinde Klosterneuburg\, Franz-Rumplerstr. 14\, Klosterneuburg\, Niederösterreich\, 3400\, Austria
CATEGORIES:Senioren
END:VEVENT
BEGIN:VEVENT
DTSTART;TZID=Europe/Berlin:20260325T180000
DTEND;TZID=Europe/Berlin:20260325T200000
DTSTAMP:20260422T191113
CREATED:20260225T194103Z
LAST-MODIFIED:20260225T194103Z
UID:10000958-1774461600-1774468800@evang-klosterneuburg.at
SUMMARY:Chor-Probe "EvanGospel"
DESCRIPTION:
URL:https://evang-klosterneuburg.at/event/chor-probe-evangospel-88/
LOCATION:Evangelische Pfarrgemeinde Klosterneuburg\, Franz-Rumplerstr. 14\, Klosterneuburg\, Niederösterreich\, 3400\, Austria
CATEGORIES:Chor
END:VEVENT
BEGIN:VEVENT
DTSTART;TZID=Europe/Berlin:20260322T093000
DTEND;TZID=Europe/Berlin:20260322T120000
DTSTAMP:20260422T191113
CREATED:20260215T191822Z
LAST-MODIFIED:20260223T092231Z
UID:10000939-1774171800-1774180800@evang-klosterneuburg.at
SUMMARY:Konfi-Kurs
DESCRIPTION:
URL:https://evang-klosterneuburg.at/event/konfi-kurs-24/
LOCATION:Evangelische Pfarrgemeinde Klosterneuburg\, Franz-Rumplerstr. 14\, Klosterneuburg\, Niederösterreich\, 3400\, Austria
CATEGORIES:Konfis & Jugend
END:VEVENT
BEGIN:VEVENT
DTSTART;TZID=Europe/Berlin:20260322T093000
DTEND;TZID=Europe/Berlin:20260322T103000
DTSTAMP:20260422T191113
CREATED:20260214T153326Z
LAST-MODIFIED:20260214T193131Z
UID:10000879-1774171800-1774175400@evang-klosterneuburg.at
SUMMARY:Gottesdienst
DESCRIPTION:mit Fabian Schirner\, parallel Kindergottesdienst\, Christian Stiegler
URL:https://evang-klosterneuburg.at/event/gottesdienst-118/
LOCATION:Evangelische Pfarrgemeinde Klosterneuburg\, Franz-Rumplerstr. 14\, Klosterneuburg\, Niederösterreich\, 3400\, Austria
CATEGORIES:Gottesdienst,Kinder und Familie
END:VEVENT
BEGIN:VEVENT
DTSTART;TZID=Europe/Berlin:20260319T183000
DTEND;TZID=Europe/Berlin:20260319T200000
DTSTAMP:20260422T191113
CREATED:20260215T193512Z
LAST-MODIFIED:20260215T194535Z
UID:10000944-1773945000-1773950400@evang-klosterneuburg.at
SUMMARY:Offene Schreibwerkstatt
DESCRIPTION:mit Hubertus September \nEingeladen sind alle Menschen zwischen 14 und 114\, die gerne schreiben oder schon länger den Wunsch haben\, eigene Texte zu verfassen. Vorkenntnisse sind keine\nnötig\, lediglich Neugier und Lust aufs Schreiben allgemein.
URL:https://evang-klosterneuburg.at/event/offene-schreibwerkstatt/
LOCATION:Evangelische Pfarrgemeinde Klosterneuburg\, Franz-Rumplerstr. 14\, Klosterneuburg\, Niederösterreich\, 3400\, Austria
END:VEVENT
BEGIN:VEVENT
DTSTART;TZID=Europe/Berlin:20260318T180000
DTEND;TZID=Europe/Berlin:20260318T200000
DTSTAMP:20260422T191113
CREATED:20260225T194030Z
LAST-MODIFIED:20260225T194030Z
UID:10000957-1773856800-1773864000@evang-klosterneuburg.at
SUMMARY:Chor-Probe "EvanGospel"
DESCRIPTION:
URL:https://evang-klosterneuburg.at/event/chor-probe-evangospel-87/
LOCATION:Evangelische Pfarrgemeinde Klosterneuburg\, Franz-Rumplerstr. 14\, Klosterneuburg\, Niederösterreich\, 3400\, Austria
CATEGORIES:Chor
END:VEVENT
BEGIN:VEVENT
DTSTART;TZID=Europe/Berlin:20260318T150000
DTEND;TZID=Europe/Berlin:20260318T170000
DTSTAMP:20260422T191113
CREATED:20260214T200721Z
LAST-MODIFIED:20260214T200721Z
UID:10000906-1773846000-1773853200@evang-klosterneuburg.at
SUMMARY:Café der Generationen
DESCRIPTION:Alle Generationen können das Miteinander in Kaffeehaus-Atmosphäre genießen. Kinder können spielen\, während Eltern\, Großeltern und andere Begleitpersonen plaudern und Kaffee und Kuchen genießen. Willkommen sind alle! Spenden werden erbeten.
URL:https://evang-klosterneuburg.at/event/cafe-der-generationen-28/
LOCATION:Evangelische Pfarrgemeinde Klosterneuburg\, Franz-Rumplerstr. 14\, Klosterneuburg\, Niederösterreich\, 3400\, Austria
CATEGORIES:Kinder und Familie,Senioren
END:VEVENT
BEGIN:VEVENT
DTSTART;TZID=Europe/Berlin:20260318T090000
DTEND;TZID=Europe/Berlin:20260318T110000
DTSTAMP:20260422T191113
CREATED:20260215T184956Z
LAST-MODIFIED:20260225T195535Z
UID:10000918-1773824400-1773831600@evang-klosterneuburg.at
SUMMARY:Bibelfrühstück
DESCRIPTION:1. Kor 5\,14 „Lasst euch versöhnen mit Gott!“
URL:https://evang-klosterneuburg.at/event/bibelfruehstueck-25/
LOCATION:Evangelische Pfarrgemeinde Klosterneuburg\, Franz-Rumplerstr. 14\, Klosterneuburg\, Niederösterreich\, 3400\, Austria
CATEGORIES:Gesprächs- und Bibelkreis
END:VEVENT
BEGIN:VEVENT
DTSTART;TZID=Europe/Berlin:20260315T180000
DTEND;TZID=Europe/Berlin:20260315T200000
DTSTAMP:20260422T191113
CREATED:20260215T202722Z
LAST-MODIFIED:20260215T202722Z
UID:10000954-1773597600-1773604800@evang-klosterneuburg.at
SUMMARY:"Vollbracht"
DESCRIPTION:Unter dem Titel „Vollbracht“ und auf Basis des Lukasevangeliums zeichnet der Liedermacher Tom Happel den Leidensweg Christi musikalisch nach. In bewegenden Liedern beschreibt er diesen Weg aus der Perspektive der Menschen\, die Jesus dabei begegnen und spannt den Bogen vom Verrat im Garten Gethsemane bis zur persönlichen Begegnung mit dem Auferstanden.
URL:https://evang-klosterneuburg.at/event/vollbracht/
LOCATION:Evangelische Pfarrgemeinde Klosterneuburg\, Franz-Rumplerstr. 14\, Klosterneuburg\, Niederösterreich\, 3400\, Austria
CATEGORIES:Konzerte und Vorträge
END:VEVENT
BEGIN:VEVENT
DTSTART;TZID=Europe/Berlin:20260315T093000
DTEND;TZID=Europe/Berlin:20260315T103000
DTSTAMP:20260422T191113
CREATED:20260214T153203Z
LAST-MODIFIED:20260214T193021Z
UID:10000878-1773567000-1773570600@evang-klosterneuburg.at
SUMMARY:Familiengottesdienst
DESCRIPTION:„Manchmal bin ich ängstlich“ mit Kerstin Fritz\, anschließend Gemeindekaffee\, Organist Christian Bauer
URL:https://evang-klosterneuburg.at/event/familiengottesdienst-10/
LOCATION:Evangelische Pfarrgemeinde Klosterneuburg\, Franz-Rumplerstr. 14\, Klosterneuburg\, Niederösterreich\, 3400\, Austria
CATEGORIES:Gottesdienst,Kinder und Familie
END:VEVENT
BEGIN:VEVENT
DTSTART;TZID=Europe/Berlin:20260314T093000
DTEND;TZID=Europe/Berlin:20260314T123000
DTSTAMP:20260422T191113
CREATED:20260215T184503Z
LAST-MODIFIED:20260215T184503Z
UID:10000914-1773480600-1773491400@evang-klosterneuburg.at
SUMMARY:Jungschar
DESCRIPTION:Ein offenes Treffen für Kinder und Jugendliche von 8 bis 13 Jahren. \nIm Vordergrund stehen Spiel\, Spaß und Freundschaft!
URL:https://evang-klosterneuburg.at/event/jungschar-25/
LOCATION:Evangelische Pfarrgemeinde Klosterneuburg\, Franz-Rumplerstr. 14\, Klosterneuburg\, Niederösterreich\, 3400\, Austria
CATEGORIES:Kinder und Familie
END:VEVENT
BEGIN:VEVENT
DTSTART;TZID=Europe/Berlin:20260314T093000
DTEND;TZID=Europe/Berlin:20260314T110000
DTSTAMP:20260422T191113
CREATED:20260214T200247Z
LAST-MODIFIED:20260214T200247Z
UID:10000902-1773480600-1773486000@evang-klosterneuburg.at
SUMMARY:Elternfrühstück
DESCRIPTION:Wir wollen uns Zeit nehmen zum Ankommen\, Austauschen\, Lachen und vielleicht auch zum ehrlichen Erzählen\, wie es uns gerade so geht. Erfahrungen zu teilen und zu merken: Wir sind mit unseren Themen nicht allein. \nFür alle Kinder im Alter von 8 bis 13 Jahren findet parallel von 9:30 bis 12:30 unsere Jungschar statt!
URL:https://evang-klosterneuburg.at/event/elternfruehstueck-3/
LOCATION:Evangelische Pfarrgemeinde Klosterneuburg\, Franz-Rumplerstr. 14\, Klosterneuburg\, Niederösterreich\, 3400\, Austria
CATEGORIES:Gesprächs- und Bibelkreis,Kinder und Familie
END:VEVENT
BEGIN:VEVENT
DTSTART;TZID=Europe/Berlin:20260312T180000
DTEND;TZID=Europe/Berlin:20260312T210000
DTSTAMP:20260422T191113
CREATED:20260215T185322Z
LAST-MODIFIED:20260215T185322Z
UID:10000922-1773338400-1773349200@evang-klosterneuburg.at
SUMMARY:You-Gain-Treff
DESCRIPTION:Offener Jugendtreff für alle ab 14 und unsere aktuellen Konfis.
URL:https://evang-klosterneuburg.at/event/you-gain-treff-22/
LOCATION:Evangelische Pfarrgemeinde Klosterneuburg\, Franz-Rumplerstr. 14\, Klosterneuburg\, Niederösterreich\, 3400\, Austria
CATEGORIES:Konfis & Jugend
END:VEVENT
BEGIN:VEVENT
DTSTART;TZID=Europe/Berlin:20260312T150000
DTEND;TZID=Europe/Berlin:20260312T170000
DTSTAMP:20260422T191113
CREATED:20260215T190215Z
LAST-MODIFIED:20260215T190215Z
UID:10000930-1773327600-1773334800@evang-klosterneuburg.at
SUMMARY:Senior*innenkreis
DESCRIPTION:Plaudern
URL:https://evang-klosterneuburg.at/event/seniorinnenkreis-6/
LOCATION:Evangelische Pfarrgemeinde Klosterneuburg\, Franz-Rumplerstr. 14\, Klosterneuburg\, Niederösterreich\, 3400\, Austria
CATEGORIES:Senioren
END:VEVENT
BEGIN:VEVENT
DTSTART;TZID=Europe/Berlin:20260311T180000
DTEND;TZID=Europe/Berlin:20260311T200000
DTSTAMP:20260422T191113
CREATED:20260225T194002Z
LAST-MODIFIED:20260225T194002Z
UID:10000956-1773252000-1773259200@evang-klosterneuburg.at
SUMMARY:Chor-Probe "EvanGospel"
DESCRIPTION:
URL:https://evang-klosterneuburg.at/event/chor-probe-evangospel-86/
LOCATION:Evangelische Pfarrgemeinde Klosterneuburg\, Franz-Rumplerstr. 14\, Klosterneuburg\, Niederösterreich\, 3400\, Austria
CATEGORIES:Chor
END:VEVENT
BEGIN:VEVENT
DTSTART;TZID=Europe/Berlin:20260309T190000
DTEND;TZID=Europe/Berlin:20260309T210000
DTSTAMP:20260422T191113
CREATED:20260214T201107Z
LAST-MODIFIED:20260214T201107Z
UID:10000909-1773082800-1773090000@evang-klosterneuburg.at
SUMMARY:Gesprächskreis
DESCRIPTION:Gespräche über Gott und die Welt
URL:https://evang-klosterneuburg.at/event/gespraechskreis-26/
LOCATION:Evangelische Pfarrgemeinde Klosterneuburg\, Franz-Rumplerstr. 14\, Klosterneuburg\, Niederösterreich\, 3400\, Austria
CATEGORIES:Gesprächs- und Bibelkreis
END:VEVENT
BEGIN:VEVENT
DTSTART;TZID=Europe/Berlin:20260308T093000
DTEND;TZID=Europe/Berlin:20260308T103000
DTSTAMP:20260422T191113
CREATED:20260214T152850Z
LAST-MODIFIED:20260214T192857Z
UID:10000877-1772962200-1772965800@evang-klosterneuburg.at
SUMMARY:Gottesdienst
DESCRIPTION:mit Markus Fellinger\, Abendmahl\, parallel Kindergottesdienst\, Organist Christian Stiegler
URL:https://evang-klosterneuburg.at/event/gottesdienst-117/
LOCATION:Evangelische Pfarrgemeinde Klosterneuburg\, Franz-Rumplerstr. 14\, Klosterneuburg\, Niederösterreich\, 3400\, Austria
CATEGORIES:Gottesdienst,Kinder und Familie
END:VEVENT
BEGIN:VEVENT
DTSTART;TZID=Europe/Berlin:20260307T093000
DTEND;TZID=Europe/Berlin:20260307T133000
DTSTAMP:20260422T191113
CREATED:20260215T191716Z
LAST-MODIFIED:20260215T191716Z
UID:10000938-1772875800-1772890200@evang-klosterneuburg.at
SUMMARY:Konfi-Kurs
DESCRIPTION:
URL:https://evang-klosterneuburg.at/event/konfi-kurs-23/
LOCATION:Evangelische Pfarrgemeinde Klosterneuburg\, Franz-Rumplerstr. 14\, Klosterneuburg\, Niederösterreich\, 3400\, Austria
CATEGORIES:Konfis & Jugend
END:VEVENT
BEGIN:VEVENT
DTSTART;TZID=Europe/Berlin:20260304T180000
DTEND;TZID=Europe/Berlin:20260304T200000
DTSTAMP:20260422T191113
CREATED:20260225T193923Z
LAST-MODIFIED:20260225T193923Z
UID:10000955-1772647200-1772654400@evang-klosterneuburg.at
SUMMARY:Chor-Probe "EvanGospel"
DESCRIPTION:
URL:https://evang-klosterneuburg.at/event/chor-probe-evangospel-85/
LOCATION:Evangelische Pfarrgemeinde Klosterneuburg\, Franz-Rumplerstr. 14\, Klosterneuburg\, Niederösterreich\, 3400\, Austria
CATEGORIES:Chor
END:VEVENT
BEGIN:VEVENT
DTSTART;TZID=Europe/Berlin:20260304T160000
DTEND;TZID=Europe/Berlin:20260304T173000
DTSTAMP:20260422T191113
CREATED:20250824T183007Z
LAST-MODIFIED:20250824T183007Z
UID:10000756-1772640000-1772645400@evang-klosterneuburg.at
SUMMARY:Tauferinnerungskurs
DESCRIPTION:
URL:https://evang-klosterneuburg.at/event/tauferinnerungskurs-25/
LOCATION:Evangelische Pfarrgemeinde Klosterneuburg\, Franz-Rumplerstr. 14\, Klosterneuburg\, Niederösterreich\, 3400\, Austria
CATEGORIES:Kinder und Familie
END:VEVENT
BEGIN:VEVENT
DTSTART;TZID=Europe/Berlin:20260301T093000
DTEND;TZID=Europe/Berlin:20260301T103000
DTSTAMP:20260422T191113
CREATED:20260214T152221Z
LAST-MODIFIED:20260214T192529Z
UID:10000876-1772357400-1772361000@evang-klosterneuburg.at
SUMMARY:Gottesdienst
DESCRIPTION:mit Heidi Sartorius\, Abendmahl\, parallel Kindergottesdienst\, Organistin Gabriele Höfer
URL:https://evang-klosterneuburg.at/event/gottesdienst-116/
LOCATION:Evangelische Pfarrgemeinde Klosterneuburg\, Franz-Rumplerstr. 14\, Klosterneuburg\, Niederösterreich\, 3400\, Austria
CATEGORIES:Gottesdienst,Kinder und Familie
END:VEVENT
BEGIN:VEVENT
DTSTART;TZID=Europe/Berlin:20260226T180000
DTEND;TZID=Europe/Berlin:20260226T210000
DTSTAMP:20260422T191113
CREATED:20251118T190250Z
LAST-MODIFIED:20260226T122824Z
UID:10000837-1772128800-1772139600@evang-klosterneuburg.at
SUMMARY:ABGESAGT: You-Gain-Treff
DESCRIPTION:Offener Jugendtreff für alle ab 14 und unsere aktuellen Konfis.
URL:https://evang-klosterneuburg.at/event/you-gain-treff-21/
LOCATION:Evangelische Pfarrgemeinde Klosterneuburg\, Franz-Rumplerstr. 14\, Klosterneuburg\, Niederösterreich\, 3400\, Austria
CATEGORIES:Konfis & Jugend
END:VEVENT
BEGIN:VEVENT
DTSTART;TZID=Europe/Berlin:20260226T150000
DTEND;TZID=Europe/Berlin:20260226T170000
DTSTAMP:20260422T191113
CREATED:20251118T181050Z
LAST-MODIFIED:20260113T091640Z
UID:10000829-1772118000-1772125200@evang-klosterneuburg.at
SUMMARY:Senior*innenkreis
DESCRIPTION:mit Geburtstagsfeier und Jause und Vortrag von Mag. Doris Wimmer: La Réunion – Insel im Indischen Ozean
URL:https://evang-klosterneuburg.at/event/seniorinnenkreis-5/
LOCATION:Evangelische Pfarrgemeinde Klosterneuburg\, Franz-Rumplerstr. 14\, Klosterneuburg\, Niederösterreich\, 3400\, Austria
CATEGORIES:Senioren
END:VEVENT
BEGIN:VEVENT
DTSTART;TZID=Europe/Berlin:20260222T093000
DTEND;TZID=Europe/Berlin:20260222T103000
DTSTAMP:20260422T191113
CREATED:20251116T205431Z
LAST-MODIFIED:20251124T090353Z
UID:10000814-1771752600-1771756200@evang-klosterneuburg.at
SUMMARY:Familiengottesdienst
DESCRIPTION:„Manchmal bin ich wütend“ mit Kerstin Fritz\, anschließend Gemeindekaffee
URL:https://evang-klosterneuburg.at/event/familiengottesdienst-9/
LOCATION:Evangelische Pfarrgemeinde Klosterneuburg\, Franz-Rumplerstr. 14\, Klosterneuburg\, Niederösterreich\, 3400\, Austria
CATEGORIES:Gottesdienst,Kinder und Familie
END:VEVENT
BEGIN:VEVENT
DTSTART;TZID=Europe/Berlin:20260221T093000
DTEND;TZID=Europe/Berlin:20260221T123000
DTSTAMP:20260422T191113
CREATED:20251118T185458Z
LAST-MODIFIED:20251222T161621Z
UID:10000832-1771666200-1771677000@evang-klosterneuburg.at
SUMMARY:Jungschar
DESCRIPTION:Ein offenes Treffen für Kinder und Jugendliche von 8 bis 13 Jahren. \nIm Vordergrund stehen Spiel\, Spaß und Freundschaft!
URL:https://evang-klosterneuburg.at/event/jungschar-24/
LOCATION:Evangelische Pfarrgemeinde Klosterneuburg\, Franz-Rumplerstr. 14\, Klosterneuburg\, Niederösterreich\, 3400\, Austria
CATEGORIES:Kinder und Familie
END:VEVENT
BEGIN:VEVENT
DTSTART;TZID=Europe/Berlin:20260221T093000
DTEND;TZID=Europe/Berlin:20260221T110000
DTSTAMP:20260422T191113
CREATED:20251118T191611Z
LAST-MODIFIED:20251124T084904Z
UID:10000841-1771666200-1771671600@evang-klosterneuburg.at
SUMMARY:Elternfrühstück
DESCRIPTION:Wir wollen uns Zeit nehmen zum Ankommen\, Austauschen\, Lachen und vielleicht auch zum ehrlichen Erzählen\, wie es uns gerade so geht. Erfahrungen zu teilen und zu merken: Wir sind mit unseren Themen nicht allein. \nFür alle Kinder im Alter von 8 bis 13 Jahren findet parallel von 9:30 bis 12:30 unsere Jungschar statt!
URL:https://evang-klosterneuburg.at/event/elternfruehstueck-2/
LOCATION:Evangelische Pfarrgemeinde Klosterneuburg\, Franz-Rumplerstr. 14\, Klosterneuburg\, Niederösterreich\, 3400\, Austria
CATEGORIES:Gesprächs- und Bibelkreis,Kinder und Familie
END:VEVENT
BEGIN:VEVENT
DTSTART;TZID=Europe/Berlin:20260218T150000
DTEND;TZID=Europe/Berlin:20260218T170000
DTSTAMP:20260422T191113
CREATED:20251118T190935Z
LAST-MODIFIED:20251124T090332Z
UID:10000839-1771426800-1771434000@evang-klosterneuburg.at
SUMMARY:Café der Generationen
DESCRIPTION:Alle Generationen können das Miteinander in Kaffeehaus-Atmosphäre genießen. Kinder können spielen\, während Eltern\, Großeltern und andere Begleitpersonen plaudern und Kaffee und Kuchen genießen. Willkommen sind alle! Spenden werden erbeten.
URL:https://evang-klosterneuburg.at/event/cafe-der-generationen-27/
LOCATION:Evangelische Pfarrgemeinde Klosterneuburg\, Franz-Rumplerstr. 14\, Klosterneuburg\, Niederösterreich\, 3400\, Austria
CATEGORIES:Kinder und Familie,Senioren
END:VEVENT
END:VCALENDAR